BEGIN:VCALENDAR
VERSION:2.0
PRODID:-//ChamberMaster//Event Calendar 2.0//EN
METHOD:PUBLISH
X-PUBLISHED-TTL:P3D
REFRESH-INTERVAL:P3D
CALSCALE:GREGORIAN
BEGIN:VEVENT
DTSTART:20141008T160000Z
DTEND:20141022T160000Z
X-MICROSOFT-CDO-ALLDAYEVENT:FALSE
SUMMARY:2014 Fall SamTram
DESCRIPTION:
X-ALT-DESC;FMTTYPE=text/html:
LOCATION:HBA of Metro Orlando 544 Mayo Ave Maitland\, FL 32751
UID:e.9318.585
SEQUENCE:3
DTSTAMP:20260423T212728Z
URL:https://members.greaterorlandoba.com/events/details/2014-fall-samtram-10-08-2014-585
END:VEVENT

END:VCALENDAR
