BEGIN:VCALENDAR
VERSION:2.0
PRODID:-//ChamberMaster//Event Calendar 2.0//EN
METHOD:PUBLISH
X-PUBLISHED-TTL:P3D
REFRESH-INTERVAL:P3D
CALSCALE:GREGORIAN
BEGIN:VEVENT
DTSTART:20141204T230000Z
DTEND:20141204T170000Z
X-MICROSOFT-CDO-ALLDAYEVENT:FALSE
SUMMARY:2014 GOBA Holiday Party
DESCRIPTION:
X-ALT-DESC;FMTTYPE=text/html:
LOCATION:1953 Clayton Heritage Way Maitland\, FL 32751
UID:e.9318.604
SEQUENCE:3
DTSTAMP:20260423T182257Z
URL:https://members.greaterorlandoba.com/events/details/2014-goba-holiday-party-12-04-2014-604
END:VEVENT

END:VCALENDAR
