BEGIN:VCALENDAR
VERSION:2.0
PRODID:-//ChamberMaster//Event Calendar 2.0//EN
METHOD:PUBLISH
X-PUBLISHED-TTL:P3D
REFRESH-INTERVAL:P3D
CALSCALE:GREGORIAN
BEGIN:VEVENT
DTSTART:20151023T220000Z
DTEND:20151023T160000Z
X-MICROSOFT-CDO-ALLDAYEVENT:FALSE
SUMMARY:2015 Fall Golf Tournament - SOLD OUT
DESCRIPTION:
X-ALT-DESC;FMTTYPE=text/html:
LOCATION:15501 Towne Commons Blvd Winter Garden\, FL 34787
UID:e.9318.710
SEQUENCE:3
DTSTAMP:20260423T031030Z
URL:https://members.greaterorlandoba.com/events/details/2015-fall-golf-tournament-sold-out-10-23-2015-710
END:VEVENT

END:VCALENDAR
