BEGIN:VCALENDAR
VERSION:2.0
PRODID:-//ChamberMaster//Event Calendar 2.0//EN
METHOD:PUBLISH
X-PUBLISHED-TTL:P3D
REFRESH-INTERVAL:P3D
CALSCALE:GREGORIAN
BEGIN:VEVENT
DTSTART:20151021T160000Z
DTEND:20151021T160000Z
X-MICROSOFT-CDO-ALLDAYEVENT:FALSE
SUMMARY:2015 Fall SamTram
DESCRIPTION:
X-ALT-DESC;FMTTYPE=text/html:
LOCATION:1953 Clayton Heritage Way Maitland\, FL 32751
UID:e.9318.1736
SEQUENCE:3
DTSTAMP:20260423T030741Z
URL:https://members.greaterorlandoba.com/events/details/2015-fall-samtram-10-21-2015-1736
END:VEVENT

END:VCALENDAR
