BEGIN:VCALENDAR
VERSION:2.0
PRODID:-//ChamberMaster//Event Calendar 2.0//EN
METHOD:PUBLISH
X-PUBLISHED-TTL:P3D
REFRESH-INTERVAL:P3D
CALSCALE:GREGORIAN
BEGIN:VEVENT
DTSTART;VALUE=DATE:20150919
DTEND;VALUE=DATE:20150920
TRANSP:TRANSPARENT
X-MICROSOFT-CDO-ALLDAYEVENT:TRUE
SUMMARY:2015 Major Achievement Awards Sponsorship
DESCRIPTION:
X-ALT-DESC;FMTTYPE=text/html:
LOCATION:60 South Ivanhoe Blvd Orlando\, FL 32804
UID:e.9318.693
SEQUENCE:3
DTSTAMP:20260423T044308Z
URL:https://members.greaterorlandoba.com/events/details/2015-major-achievement-awards-sponsorship-09-19-2015-693
END:VEVENT

END:VCALENDAR
