BEGIN:VCALENDAR
VERSION:2.0
PRODID:-//ChamberMaster//Event Calendar 2.0//EN
METHOD:PUBLISH
X-PUBLISHED-TTL:P3D
REFRESH-INTERVAL:P3D
CALSCALE:GREGORIAN
BEGIN:VEVENT
DTSTART;VALUE=DATE:20170916
DTEND;VALUE=DATE:20170917
TRANSP:TRANSPARENT
X-MICROSOFT-CDO-ALLDAYEVENT:TRUE
SUMMARY:2017 majors Achievement Awards Entries
DESCRIPTION:Associate Member - award entry fee: $100\n\nBuilder - additional entry over 1 per category: $50
X-ALT-DESC;FMTTYPE=text/html:Associate Member - award entry fee: $100<br />\nBuilder - additional entry over 1 per category: $50
LOCATION:
UID:e.9318.4692
SEQUENCE:3
DTSTAMP:20260421T160224Z
URL:https://members.greaterorlandoba.com/events/details/2017-majors-achievement-awards-entries-4692
END:VEVENT

END:VCALENDAR
