BEGIN:VCALENDAR
VERSION:2.0
PRODID:-//ChamberMaster//Event Calendar 2.0//EN
METHOD:PUBLISH
X-PUBLISHED-TTL:P3D
REFRESH-INTERVAL:P3D
CALSCALE:GREGORIAN
BEGIN:VEVENT
DTSTART:20201112T133000Z
DTEND:20201114T203000Z
X-MICROSOFT-CDO-ALLDAYEVENT:FALSE
SUMMARY:AIBD Design & Build Fall Conference
DESCRIPTION:Optimizing Your Home Designs With Building Science\n\n \n\nHigh-performance\, green\, sustainable are terms used interchangeably. And they all relate to building science.\n\n \n\nWhile they may conjure visions of solar roof panels\, geothermal heating\, and other expensive technologies\, most home designers agree that the essential components of a high-performance home are framing\, windows\, insulation\, and HVAC systems.\n\n \n\nAttend this conference and recognize the trends in high-performance buildings. Translate the trends into sales and verify the science using BIM technology. Be a professional who provides affordable and workable solutions for clients and their builders.\n\n\n\nPresented in-person\, at the Orlando Science Center\, and virtually using the Hopin virtual conference platform.\n\n\n\nTo inquire about sponsorships and exhibiting\, email conferences@AIBD.org\, or call 202-750-4900 x3.
X-ALT-DESC;FMTTYPE=text/html:<h1 style="box-sizing: border-box\; margin: 0px\; padding: 0px\; font-size: var(--font-size-heading-4)\; font-weight: var(--font-weight-medium)\; line-height: var(--line-height-tight)\; color: rgb(44\, 50\, 66)\; font-family: Inter\, -apple-system\, BlinkMacSystemFont\, &quot\;Segoe UI&quot\;\, sans-serif\;"><strong style="box-sizing: border-box\; margin: 0px\; padding: 0px\;">Optimizing Your Home Designs With Building Science</strong></h1>\n\n<div style="box-sizing: border-box\; margin: 0px\; padding: 0px\; color: rgb(44\, 50\, 66)\; font-family: Inter\, -apple-system\, BlinkMacSystemFont\, &quot\;Segoe UI&quot\;\, sans-serif\; font-size: 14px\;">&nbsp\;</div>\n\n<div style="box-sizing: border-box\; margin: 0px\; padding: 0px\; color: rgb(44\, 50\, 66)\; font-family: Inter\, -apple-system\, BlinkMacSystemFont\, &quot\;Segoe UI&quot\;\, sans-serif\; font-size: 14px\;">High-performance\, green\, sustainable are terms used interchangeably. And they all relate to&nbsp\;<a href="https://www.wbdg.org/resources/building-science-concepts#:~:text=Building%20Science%20Defined\,architecture%2C%20and%20the%20life%20sciences.&amp\;text=Modern%20building%20science%20attempts%20to\,effective%20solution%20of%20design%20problems." style="box-sizing: border-box\; margin: 0px\; padding: 0px\; cursor: pointer\; color: var(--color-primary-400)\; text-decoration-line: none\; transition: color var(--transition-duration)\;">building science</a>.<br style="box-sizing: border-box\; margin: 0px\; padding: 0px\;" />\n&nbsp\;</div>\n\n<div style="box-sizing: border-box\; margin: 0px\; padding: 0px\; color: rgb(44\, 50\, 66)\; font-family: Inter\, -apple-system\, BlinkMacSystemFont\, &quot\;Segoe UI&quot\;\, sans-serif\; font-size: 14px\;">While they may conjure visions of solar roof panels\, geothermal heating\, and other expensive technologies\, most home designers agree that the essential components of a high-performance home are framing\, windows\, insulation\, and HVAC systems.<br style="box-sizing: border-box\; margin: 0px\; padding: 0px\;" />\n&nbsp\;</div>\n\n<div style="box-sizing: border-box\; margin: 0px\; padding: 0px\; color: rgb(44\, 50\, 66)\; font-family: Inter\, -apple-system\, BlinkMacSystemFont\, &quot\;Segoe UI&quot\;\, sans-serif\; font-size: 14px\;">Attend this conference and recognize the trends in high-performance buildings. Translate the trends into sales and verify the science using BIM technology. Be a professional who provides affordable and workable solutions for clients and their builders.<br style="box-sizing: border-box\; margin: 0px\; padding: 0px\;" />\n<br style="box-sizing: border-box\; margin: 0px\; padding: 0px\;" />\n<strong style="box-sizing: border-box\; margin: 0px\; padding: 0px\;">Presented in-person</strong>\, at the<a href="https://www.osc.org/pompeii/?gclid=Cj0KCQjwuL_8BRCXARIsAGiC51D08usGV8WKFXUxlgSy6KdmxEyX9P8EgisYW2yozsGq2z92wYWvCQEaAhBsEALw_wcB" style="box-sizing: border-box\; margin: 0px\; padding: 0px\; cursor: pointer\; color: var(--color-primary-400)\; text-decoration-line: none\; transition: color var(--transition-duration)\;">&nbsp\;Orlando Science Center</a>\,&nbsp\;<strong style="box-sizing: border-box\; margin: 0px\; padding: 0px\;">and virtually</strong>&nbsp\;using the&nbsp\;<a href="https://hopin.to/" style="box-sizing: border-box\; margin: 0px\; padding: 0px\; cursor: pointer\; color: var(--color-primary-400)\; text-decoration-line: none\; transition: color var(--transition-duration)\;">Hopin</a>&nbsp\;virtual conference platform.<br style="box-sizing: border-box\; margin: 0px\; padding: 0px\;" />\n<br style="box-sizing: border-box\; margin: 0px\; padding: 0px\;" />\nTo inquire about sponsorships and exhibiting\, email&nbsp\;conferences@AIBD.org\, or call 202-750-4900 x3.</div>\n
LOCATION:Orlando Science Center 777 E Princeton Street Orlando\, FL 32803
UID:e.9318.6238
SEQUENCE:3
DTSTAMP:20260420T101944Z
URL:https://members.greaterorlandoba.com/events/details/aibd-design-build-fall-conference-6238
END:VEVENT

END:VCALENDAR
