BEGIN:VCALENDAR
VERSION:2.0
PRODID:-//ChamberMaster//Event Calendar 2.0//EN
METHOD:PUBLISH
X-PUBLISHED-TTL:P3D
REFRESH-INTERVAL:P3D
CALSCALE:GREGORIAN
BEGIN:VEVENT
DTSTART:20180926T120000Z
DTEND:20180926T130000Z
X-MICROSOFT-CDO-ALLDAYEVENT:FALSE
SUMMARY:Builder's Breakfast
DESCRIPTION:This is an excellent opportunity to network with other construction industry professionals while providing an opportunity for your company to learn how to incorporate your area of commercial expertise into your corporate social responsibility strategy. You will learn how you can use the operations you are already undertaking and the best way to incorporate them into your strategies\, your company can make a greater impact in your community by partnering with a non-profit who's mission is helping individuals with disabilities . Complimentary breakfast provided by The COOP.
X-ALT-DESC;FMTTYPE=text/html:This is an excellent opportunity to network with other construction industry professionals while providing an opportunity for your company to learn how to incorporate your area of commercial expertise into your corporate social responsibility strategy. You will learn how you can use the operations you are already undertaking and the best way to incorporate them into your strategies\, your company can make a greater impact in your community by partnering with a non-profit who&#39\;s mission is helping individuals with disabilities . Complimentary breakfast provided by The COOP.
LOCATION:Greater Orlando Builders Association
UID:e.9318.5448
SEQUENCE:3
DTSTAMP:20260420T031619Z
URL:https://members.greaterorlandoba.com/events/details/builder-s-breakfast-5448
END:VEVENT

END:VCALENDAR
