BEGIN:VCALENDAR
VERSION:2.0
PRODID:-//ChamberMaster//Event Calendar 2.0//EN
METHOD:PUBLISH
X-PUBLISHED-TTL:P3D
REFRESH-INTERVAL:P3D
CALSCALE:GREGORIAN
BEGIN:VEVENT
DTSTART:20201014T220000Z
DTEND:20201015T000000Z
X-MICROSOFT-CDO-ALLDAYEVENT:FALSE
SUMMARY:Builders & Bubbly
DESCRIPTION:Join Shepherd's Finance and Wettermann Homes for a Builders & Bubbly at M Lounge!\n\n\n\nOctober 14\, 2020\n\n6pm-8pm\n\n\n\nBuilders please RSVP to kaitgrabowski@shepherdsfinance.com\n\n\n\nBeer\, Wine and Snacks are provided.\n\n\n\nIf you're not a builder\, bring a builder with you for free entry.\n\n\n\nM Lounge\n\n2000 North Orange Ave\n\nSuite 300\n\nOrlando\, FL 32804
X-ALT-DESC;FMTTYPE=text/html:Join Shepherd&#39\;s Finance and Wettermann Homes for a Builders &amp\; Bubbly at M Lounge!<br />\n<br />\nOctober 14\, 2020<br />\n6pm-8pm<br />\n<br />\nBuilders please RSVP to kaitgrabowski@shepherdsfinance.com<br />\n<br />\nBeer\, Wine and Snacks are provided.<br />\n<br />\nIf you&#39\;re not a builder\, bring a builder with you for free entry.<br />\n<br />\nM Lounge<br />\n2000 North Orange Ave<br />\nSuite 300<br />\nOrlando\, FL 32804
LOCATION:M Lounge 2000 North Orange Ave Suite 300 Orlando\, FL 32804
UID:e.9318.6165
SEQUENCE:3
DTSTAMP:20260420T082941Z
URL:https://members.greaterorlandoba.com/events/details/builders-bubbly-6165
END:VEVENT

END:VCALENDAR
