BEGIN:VCALENDAR
VERSION:2.0
PRODID:-//ChamberMaster//Event Calendar 2.0//EN
METHOD:PUBLISH
X-PUBLISHED-TTL:P3D
REFRESH-INTERVAL:P3D
CALSCALE:GREGORIAN
BEGIN:VEVENT
DTSTART;VALUE=DATE:20201202
DTEND;VALUE=DATE:20201203
TRANSP:TRANSPARENT
X-MICROSOFT-CDO-ALLDAYEVENT:TRUE
SUMMARY:Canceled: SMC Monthly Meeting - December 2020
DESCRIPTION:See you in 2021
X-ALT-DESC;FMTTYPE=text/html:See you in 2021
LOCATION:
UID:e.9318.6241
SEQUENCE:3
DTSTAMP:20260420T114253Z
URL:https://members.greaterorlandoba.com/events/details/canceled-smc-monthly-meeting-december-2020-6241
END:VEVENT

END:VCALENDAR
