BEGIN:VCALENDAR
VERSION:2.0
PRODID:-//ChamberMaster//Event Calendar 2.0//EN
METHOD:PUBLISH
X-PUBLISHED-TTL:P3D
REFRESH-INTERVAL:P3D
CALSCALE:GREGORIAN
BEGIN:VEVENT
DTSTART:20171012T153000Z
DTEND:20171012T170000Z
X-MICROSOFT-CDO-ALLDAYEVENT:FALSE
SUMMARY:Cancelled - Remodel & Design Council Meeting
DESCRIPTION:Save the Date: Architects Panel - November RDC Meeting
X-ALT-DESC;FMTTYPE=text/html:Save the Date: Architects Panel - November RDC Meeting
LOCATION:Location - TBD
UID:e.9318.3961
SEQUENCE:3
DTSTAMP:20260421T142842Z
URL:https://members.greaterorlandoba.com/events/details/cancelled-remodel-design-council-meeting-3961
END:VEVENT

END:VCALENDAR
