BEGIN:VCALENDAR
VERSION:2.0
PRODID:-//ChamberMaster//Event Calendar 2.0//EN
METHOD:PUBLISH
X-PUBLISHED-TTL:P3D
REFRESH-INTERVAL:P3D
CALSCALE:GREGORIAN
BEGIN:VEVENT
DTSTART:20190904T130000Z
DTEND:20190904T140000Z
X-MICROSOFT-CDO-ALLDAYEVENT:FALSE
SUMMARY:CANCELLED - SMC Membership Committee Meeting
DESCRIPTION:THIS MEETING HAS BEEN CANCELLED DUE TO HURRICANE DORIAN.\n\nSee you next month!\n\n\n\n\n\n8:30am - optional Networking Breakfast sponsored by SunTrust Mortgage\n\n\n\nThe Greater Orlando Builders Association Sales and Marketing Council is a network of home building industry leaders and professionals that come from all segments of our industry. Advance your career by getting involved with this dynamic group of individuals.\n\n\n\nNon SMC Members are encouraged to attend one meeting without joining the council.  After the one complementary meeting\, SMC Membership is required to attend Membership meetings.  Find out more about becoming an SMC Member here.
X-ALT-DESC;FMTTYPE=text/html:THIS MEETING HAS BEEN CANCELLED DUE TO HURRICANE DORIAN.<br />\nSee you next month!<br />\n<br />\n<br />\n8:30am - optional Networking Breakfast&nbsp\;sponsored by SunTrust Mortgage<br />\n<br />\n<span style="font-family: tahoma\; font-size: 12px\; widows: 1\;">The Greater Orlando Builders Association Sales and Marketing Council is a network of home building industry leaders and professionals that come from all segments of our industry. Advance your career by getting involved with this dynamic group of individuals.</span><br style="font-family: tahoma\; font-size: 12px\; widows: 1\;" />\n<br style="font-family: tahoma\; font-size: 12px\; widows: 1\;" />\n<span style="font-family: tahoma\; font-size: 12px\; widows: 1\; line-height: 16px\;">Non SMC Members are encouraged to attend one meeting without joining the council. &nbsp\;After the one complementary meeting\, SMC Membership is required to attend Membership meetings. &nbsp\;Find out more about becoming an SMC Member&nbsp\;</span><a href="http://www.greaterorlandoba.com/sales-marketing-council" style="widows: 1\; font-family: &quot\;Merriweather Sans&quot\;\, sans-serif\; font-size: 14px\; line-height: 16px\;">here</a><span style="font-family: tahoma\; font-size: 12px\; widows: 1\; line-height: 16px\;">.</span>
LOCATION:ODC Great Hall 1953 Clayton Heritage Way Maitland\, FL 32751
UID:e.9318.5526
SEQUENCE:3
DTSTAMP:20260419T120227Z
URL:https://members.greaterorlandoba.com/events/details/cancelled-smc-membership-committee-meeting-5526
END:VEVENT

END:VCALENDAR
