BEGIN:VCALENDAR
VERSION:2.0
PRODID:-//ChamberMaster//Event Calendar 2.0//EN
METHOD:PUBLISH
X-PUBLISHED-TTL:P3D
REFRESH-INTERVAL:P3D
CALSCALE:GREGORIAN
BEGIN:VEVENT
DTSTART;VALUE=DATE:20150211
DTEND;VALUE=DATE:20150212
TRANSP:TRANSPARENT
X-MICROSOFT-CDO-ALLDAYEVENT:TRUE
SUMMARY:Closing Time February 2015
DESCRIPTION:
X-ALT-DESC;FMTTYPE=text/html:
LOCATION:8565 Bayview Crossing Drive Winter Garden\, FL 34787
UID:e.9318.625
SEQUENCE:3
DTSTAMP:20260423T151400Z
URL:https://members.greaterorlandoba.com/events/details/closing-time-february-2015-02-11-2015-625
END:VEVENT

END:VCALENDAR
