BEGIN:VCALENDAR
VERSION:2.0
PRODID:-//ChamberMaster//Event Calendar 2.0//EN
METHOD:PUBLISH
X-PUBLISHED-TTL:P3D
REFRESH-INTERVAL:P3D
CALSCALE:GREGORIAN
BEGIN:VEVENT
DTSTART;VALUE=DATE:20150610
DTEND;VALUE=DATE:20150611
TRANSP:TRANSPARENT
X-MICROSOFT-CDO-ALLDAYEVENT:TRUE
SUMMARY:Closing Time June 2015
DESCRIPTION:
X-ALT-DESC;FMTTYPE=text/html:
LOCATION:9938 Universal Blvd Suite C-108 Orlando\, FL 32819
UID:e.9318.664
SEQUENCE:3
DTSTAMP:20260423T092503Z
URL:https://members.greaterorlandoba.com/events/details/closing-time-june-2015-06-10-2015-664
END:VEVENT

END:VCALENDAR
