BEGIN:VCALENDAR
VERSION:2.0
PRODID:-//ChamberMaster//Event Calendar 2.0//EN
METHOD:PUBLISH
X-PUBLISHED-TTL:P3D
REFRESH-INTERVAL:P3D
CALSCALE:GREGORIAN
BEGIN:VEVENT
DTSTART;VALUE=DATE:20150513
DTEND;VALUE=DATE:20150514
TRANSP:TRANSPARENT
X-MICROSOFT-CDO-ALLDAYEVENT:TRUE
SUMMARY:Closing Time May 2015
DESCRIPTION:
X-ALT-DESC;FMTTYPE=text/html:
LOCATION:3030 East Semoran Blvd Apopka\, FL 32703
UID:e.9318.655
SEQUENCE:3
DTSTAMP:20260423T105145Z
URL:https://members.greaterorlandoba.com/events/details/closing-time-may-2015-05-13-2015-655
END:VEVENT

END:VCALENDAR
