BEGIN:VCALENDAR
VERSION:2.0
PRODID:-//ChamberMaster//Event Calendar 2.0//EN
METHOD:PUBLISH
X-PUBLISHED-TTL:P3D
REFRESH-INTERVAL:P3D
CALSCALE:GREGORIAN
BEGIN:VEVENT
DTSTART;VALUE=DATE:20150923
DTEND;VALUE=DATE:20150924
TRANSP:TRANSPARENT
X-MICROSOFT-CDO-ALLDAYEVENT:TRUE
SUMMARY:Coffee & Networking Grand Opening at Butler's Preserve\, a Habitat for Humanity of Greater Orlando Co
DESCRIPTION:
X-ALT-DESC;FMTTYPE=text/html:
LOCATION:644 Willie Mays Parkway Orlando\, FL 32811
UID:e.9318.697
SEQUENCE:3
DTSTAMP:20260423T044530Z
URL:https://members.greaterorlandoba.com/events/details/coffee-networking-grand-opening-at-butler-s-preserve-a-habitat-for-humanity-of-greater-orlando-co-09-23-2015-697
END:VEVENT

END:VCALENDAR
