BEGIN:VCALENDAR
VERSION:2.0
PRODID:-//ChamberMaster//Event Calendar 2.0//EN
METHOD:PUBLISH
X-PUBLISHED-TTL:P3D
REFRESH-INTERVAL:P3D
CALSCALE:GREGORIAN
BEGIN:VEVENT
DTSTART:20170613T213000Z
DTEND:20170613T230000Z
X-MICROSOFT-CDO-ALLDAYEVENT:FALSE
SUMMARY:Community Meeting on Urban Trees and Stormwater Study
DESCRIPTION:Help Shape Orange County's Urban Tree Canopy\n\n \n\nYOUR opinions and ideas are needed\n\n \n\nTrees improve air quality\, provide shade\, decrease erosion\, and remove pollutants from stormwater.  The Florida Forest Service is funding a study in unincorporated Orange County to see if we can use more trees to help us reduce flooding and improve water quality in our lakes\, ponds\, springs\, and rivers.\n\n \n\nCome learn about the study\, and share your ideas at this meeting!  \n\n\n\nRegistration not required\, but appreciated -- Click Here\n\n \n\n(light refreshments will be available)\n\n \n\nThis meeting will focus on urban trees in unincorporated Orange County.\n\nAll county residents are invited to attend and offer input.\n\n \n\nTuesday | June 13 | 5:30 to 7:00 pm\n\nOrange County Administration | Commission Chambers\n\n201 South Rosalind Avenue | Orlando | 32801
X-ALT-DESC;FMTTYPE=text/html:<strong><span style="color:#656100\;"><span style="font-family:arial\,sans-serif\;"><span style="font-size:12.0pt\;">Help Shape Orange County&#39\;s Urban Tree Canopy</span></span></span></strong><br />\n&nbsp\;<br />\n<span style="color:#36495F\;"><span style="font-family:arial\,sans-serif\;"><span style="font-size:10.5pt\;">YOUR opinions and ideas are needed</span></span></span><br />\n&nbsp\;<br />\n<span style="color:#36495F\;"><span style="font-family:arial\,sans-serif\;"><span style="font-size:9.0pt\;">Trees improve air quality\, provide shade\, decrease erosion\, and remove pollutants from stormwater.&nbsp\; The Florida Forest Service is funding a study in unincorporated Orange County to see if we can use more trees to help us reduce flooding and improve water quality in our lakes\, ponds\, springs\, and rivers.</span></span></span><br />\n&nbsp\;<br />\n<span style="color:#36495F\;"><span style="font-family:arial\,sans-serif\;"><span style="font-size:9.0pt\;">Come learn about the study\, and share your ideas at this meeting!</span></span></span> &nbsp\;<br />\n<br />\n<span style="color:#DE4E3A\;"><span style="font-family:arial\,sans-serif\;"><span style="font-size:10.5pt\;">Registration not required\, but appreciated -- <a href="http://ocfl_trees.eventbrite.com">Click Here</a></span></span></span><br />\n&nbsp\;<br />\n<span style="color:#36495F\;"><span style="font-family:arial\,sans-serif\;"><span style="font-size:10.5pt\;">(light refreshments will be available)</span></span></span><br />\n&nbsp\;<br />\n<em><span style="color:#36495F\;"><span style="font-family:arial\,sans-serif\;"><span style="font-size:10.5pt\;">This meeting will focus on urban trees in unincorporated Orange County.</span></span></span></em><br />\n<em><span style="color:#36495F\;"><span style="font-family:arial\,sans-serif\;"><span style="font-size:10.5pt\;">All county residents are invited to attend and offer input.</span></span></span></em><br />\n&nbsp\;<br />\n<strong><span style="color:#36495F\;"><span style="font-family:arial\,sans-serif\;"><span style="font-size:10.5pt\;">Tuesday | June 13 | 5:30 to 7:00 pm</span></span></span></strong><br />\n<strong><span style="color:#36495F\;"><span style="font-family:arial\,sans-serif\;"><span style="font-size:10.5pt\;">Orange County Administration | Commission Chambers</span></span></span></strong><br />\n<strong><span style="color:#36495F\;"><span style="font-family:arial\,sans-serif\;"><span style="font-size:10.5pt\;">201 South Rosalind Avenue | Orlando | 32801</span></span></span></strong><br />\n&nbsp\;<br />\n&nbsp\;
LOCATION:Orange County Administration Commission Chamber
UID:e.9318.4660
SEQUENCE:3
DTSTAMP:20260421T204826Z
URL:https://members.greaterorlandoba.com/events/details/community-meeting-on-urban-trees-and-stormwater-study-4660
END:VEVENT

END:VCALENDAR
