BEGIN:VCALENDAR
VERSION:2.0
PRODID:-//ChamberMaster//Event Calendar 2.0//EN
METHOD:PUBLISH
X-PUBLISHED-TTL:P3D
REFRESH-INTERVAL:P3D
CALSCALE:GREGORIAN
BEGIN:VEVENT
DTSTART;VALUE=DATE:20210715
DTEND;VALUE=DATE:20210716
TRANSP:TRANSPARENT
X-MICROSOFT-CDO-ALLDAYEVENT:TRUE
SUMMARY:Custom Home & Remodeling Council: July - No Program
DESCRIPTION:There will be no program for July.\n\nStay tuned for details for August.
X-ALT-DESC;FMTTYPE=text/html:There will be no program for July.<br />\nStay tuned for details for August.
LOCATION:
UID:e.9318.6318
SEQUENCE:3
DTSTAMP:20260420T183819Z
URL:https://members.greaterorlandoba.com/events/details/custom-home-remodeling-council-july-no-program-6318
END:VEVENT

END:VCALENDAR
