BEGIN:VCALENDAR
VERSION:2.0
PRODID:-//ChamberMaster//Event Calendar 2.0//EN
METHOD:PUBLISH
X-PUBLISHED-TTL:P3D
REFRESH-INTERVAL:P3D
CALSCALE:GREGORIAN
BEGIN:VEVENT
DTSTART:20210610T153000Z
DTEND:20210610T170000Z
X-MICROSOFT-CDO-ALLDAYEVENT:FALSE
SUMMARY:Custom Home & Remodeling Council: No June Program
DESCRIPTION:NO June Program
X-ALT-DESC;FMTTYPE=text/html:<p style="text-align: center\;"><font face="tahoma"><span style="font-size: 12px\;">NO June Program</span></font></p>\n
LOCATION:GOBA Great Hall 1953 Clayton Heritage Way Maitland\, FL 32751
UID:e.9318.6317
SEQUENCE:3
DTSTAMP:20260420T193238Z
URL:https://members.greaterorlandoba.com/events/details/custom-home-remodeling-council-no-june-program-6317
END:VEVENT

END:VCALENDAR
