BEGIN:VCALENDAR
VERSION:2.0
PRODID:-//ChamberMaster//Event Calendar 2.0//EN
METHOD:PUBLISH
X-PUBLISHED-TTL:P3D
REFRESH-INTERVAL:P3D
CALSCALE:GREGORIAN
BEGIN:VEVENT
DTSTART:20180517T153000Z
DTEND:20180517T160000Z
X-MICROSOFT-CDO-ALLDAYEVENT:FALSE
SUMMARY:Custom Home & Remodeling Council: No Program
DESCRIPTION:There will be no program for May.\n\nStay tuned for details for June.
X-ALT-DESC;FMTTYPE=text/html:There will be no program for May.<br />\nStay tuned for details for June.
LOCATION:
UID:e.9318.5400
SEQUENCE:3
DTSTAMP:20260419T210449Z
URL:https://members.greaterorlandoba.com/events/details/custom-home-remodeling-council-no-program-5400
END:VEVENT

END:VCALENDAR
