BEGIN:VCALENDAR
VERSION:2.0
PRODID:-//ChamberMaster//Event Calendar 2.0//EN
METHOD:PUBLISH
X-PUBLISHED-TTL:P3D
REFRESH-INTERVAL:P3D
CALSCALE:GREGORIAN
BEGIN:VEVENT
DTSTART:20160106T163000Z
DTEND:20160106T180000Z
X-MICROSOFT-CDO-ALLDAYEVENT:FALSE
SUMMARY:Design and Remodel Council Monthly Meeting
DESCRIPTION:Join us for a presentation on jobsite technology. Representatives from Phil Kean Design Group and Builder Trend will share how they are using technology to streamline their building process and better communicate with their sub-contractors and homeowners.\n\nTopics to include:\n\nNotable technology changes:\n\n	3D Design   Design a home before it is built\n	Using the Cloud   go paperless\n	Communication   with Clients\, Subcontractors\, Internal Employees\n	Mobile Strategy - Log on the go\n\nSoftware Consideration:\n\n\n	Business Size\n	Company Needs   improve estimating\, improve bidding process\, improve organization\, etc.\n	Pricing/Software Budget\n	Scalability\n	Project flexibility\n	Learning Curve\n\nBuilderTREND overview\n\n\n	Pre-Sale Process\n	Project Management\n	Customer Service
X-ALT-DESC;FMTTYPE=text/html:Join us for a presentation on jobsite technology. Representatives from Phil Kean Design Group and Builder Trend will share how they are using technology to streamline their building process and better communicate with their sub-contractors and homeowners.<br />\nTopics to include:<br />\nNotable technology changes:\n<ul>\n	<li>3D Design &ndash\; Design a home before it is built</li>\n	<li>Using the Cloud &ndash\; go paperless</li>\n	<li>Communication &ndash\; with Clients\, Subcontractors\, Internal Employees</li>\n	<li>Mobile Strategy - Log on the go</li>\n</ul>\nSoftware Consideration:\n\n<ul>\n	<li>Business Size</li>\n	<li>Company Needs &ndash\; improve estimating\, improve bidding process\, improve organization\, etc.</li>\n	<li>Pricing/Software Budget</li>\n	<li>Scalability</li>\n	<li>Project flexibility</li>\n	<li>Learning Curve</li>\n</ul>\nBuilderTREND overview\n\n<ul>\n	<li>Pre-Sale Process</li>\n	<li>Project Management</li>\n	<li>Customer Service</li>\n</ul>\n
LOCATION:GOBA Board Room 1953 Clayton Heritage Way Maitland\, FL 32751 For GPS purposes use 1000 Sanford Ave
UID:e.9318.1783
SEQUENCE:3
DTSTAMP:20260422T224333Z
URL:https://members.greaterorlandoba.com/events/details/design-and-remodel-council-monthly-meeting-01-06-2016-1783
END:VEVENT

END:VCALENDAR
