BEGIN:VCALENDAR
VERSION:2.0
PRODID:-//ChamberMaster//Event Calendar 2.0//EN
METHOD:PUBLISH
X-PUBLISHED-TTL:P3D
REFRESH-INTERVAL:P3D
CALSCALE:GREGORIAN
BEGIN:VEVENT
DTSTART:20160203T163000Z
DTEND:20160203T180000Z
X-MICROSOFT-CDO-ALLDAYEVENT:FALSE
SUMMARY:Design and Remodel Council Monthly Meeting
DESCRIPTION:This meeting is at capacity.  No current registrations are being accepted.\n\n\n\n2016 Interior Design Trends presented by Masterpiece Design Group and Phil Kean Design Group.
X-ALT-DESC;FMTTYPE=text/html:<u><em>This meeting is at capacity.&nbsp\; No current registrations are being accepted.</em></u><br />\n<br />\n2016 Interior Design Trends presented by Masterpiece Design Group and Phil Kean Design Group.
LOCATION:GOBA Board Room 1953 Clayton Heritage Way Maitland\, FL 32751
UID:e.9318.1784
SEQUENCE:3
DTSTAMP:20260422T210138Z
URL:https://members.greaterorlandoba.com/events/details/design-and-remodel-council-monthly-meeting-02-03-2016-1784
END:VEVENT

END:VCALENDAR
