BEGIN:VCALENDAR
VERSION:2.0
PRODID:-//ChamberMaster//Event Calendar 2.0//EN
METHOD:PUBLISH
X-PUBLISHED-TTL:P3D
REFRESH-INTERVAL:P3D
CALSCALE:GREGORIAN
BEGIN:VEVENT
DTSTART;VALUE=DATE:20150805
DTEND;VALUE=DATE:20150806
TRANSP:TRANSPARENT
X-MICROSOFT-CDO-ALLDAYEVENT:TRUE
SUMMARY:Design/Remodeler's Meeting - August 2015
DESCRIPTION:
X-ALT-DESC;FMTTYPE=text/html:
LOCATION:1200 Alden Road Orlando\, FL 32803
UID:e.9318.678
SEQUENCE:3
DTSTAMP:20260423T062116Z
URL:https://members.greaterorlandoba.com/events/details/design-remodeler-s-meeting-august-2015-08-05-2015-678
END:VEVENT

END:VCALENDAR
