BEGIN:VCALENDAR
VERSION:2.0
PRODID:-//ChamberMaster//Event Calendar 2.0//EN
METHOD:PUBLISH
X-PUBLISHED-TTL:P3D
REFRESH-INTERVAL:P3D
CALSCALE:GREGORIAN
BEGIN:VEVENT
DTSTART;VALUE=DATE:20151202
DTEND;VALUE=DATE:20151203
TRANSP:TRANSPARENT
X-MICROSOFT-CDO-ALLDAYEVENT:TRUE
SUMMARY:Design/Remodeler's Meeting - December 2015
DESCRIPTION:
X-ALT-DESC;FMTTYPE=text/html:
LOCATION:1953 Clayton Heritage Way Maitland\, FL 32751
UID:e.9318.718
SEQUENCE:3
DTSTAMP:20260423T000953Z
URL:https://members.greaterorlandoba.com/events/details/design-remodeler-s-meeting-december-2015-12-02-2015-718
END:VEVENT

END:VCALENDAR
