BEGIN:VCALENDAR
VERSION:2.0
PRODID:-//ChamberMaster//Event Calendar 2.0//EN
METHOD:PUBLISH
X-PUBLISHED-TTL:P3D
REFRESH-INTERVAL:P3D
CALSCALE:GREGORIAN
BEGIN:VEVENT
DTSTART;VALUE=DATE:20150107
DTEND;VALUE=DATE:20150108
TRANSP:TRANSPARENT
X-MICROSOFT-CDO-ALLDAYEVENT:TRUE
SUMMARY:Design/Remodeler's Meeting - January 2015
DESCRIPTION:
X-ALT-DESC;FMTTYPE=text/html:
LOCATION:1953 Clayton Heritage Way Maitland\, FL 32751
UID:e.9318.609
SEQUENCE:3
DTSTAMP:20260423T164858Z
URL:https://members.greaterorlandoba.com/events/details/design-remodeler-s-meeting-january-2015-01-07-2015-609
END:VEVENT

END:VCALENDAR
