BEGIN:VCALENDAR
VERSION:2.0
PRODID:-//ChamberMaster//Event Calendar 2.0//EN
METHOD:PUBLISH
X-PUBLISHED-TTL:P3D
REFRESH-INTERVAL:P3D
CALSCALE:GREGORIAN
BEGIN:VEVENT
DTSTART;VALUE=DATE:20150506
DTEND;VALUE=DATE:20150507
TRANSP:TRANSPARENT
X-MICROSOFT-CDO-ALLDAYEVENT:TRUE
SUMMARY:Design/Remodeler's Meeting - May 2015
DESCRIPTION:
X-ALT-DESC;FMTTYPE=text/html:
LOCATION:250 Nottoway Trail Maitland\, FL 32751
UID:e.9318.652
SEQUENCE:3
DTSTAMP:20260423T105350Z
URL:https://members.greaterorlandoba.com/events/details/design-remodeler-s-meeting-may-2015-05-06-2015-652
END:VEVENT

END:VCALENDAR
