BEGIN:VCALENDAR
VERSION:2.0
PRODID:-//ChamberMaster//Event Calendar 2.0//EN
METHOD:PUBLISH
X-PUBLISHED-TTL:P3D
REFRESH-INTERVAL:P3D
CALSCALE:GREGORIAN
BEGIN:VEVENT
DTSTART;VALUE=DATE:20151104
DTEND;VALUE=DATE:20151105
TRANSP:TRANSPARENT
X-MICROSOFT-CDO-ALLDAYEVENT:TRUE
SUMMARY:Design/Remodeler's Meeting - November 2015
DESCRIPTION:
X-ALT-DESC;FMTTYPE=text/html:
LOCATION:1953 Clayton Heritage Way Maitland\, FL 32751
UID:e.9318.712
SEQUENCE:3
DTSTAMP:20260423T014851Z
URL:https://members.greaterorlandoba.com/events/details/design-remodeler-s-meeting-november-2015-11-04-2015-712
END:VEVENT

END:VCALENDAR
