BEGIN:VCALENDAR
VERSION:2.0
PRODID:-//ChamberMaster//Event Calendar 2.0//EN
METHOD:PUBLISH
X-PUBLISHED-TTL:P3D
REFRESH-INTERVAL:P3D
CALSCALE:GREGORIAN
BEGIN:VEVENT
DTSTART:20180222T223000Z
DTEND:20180223T000000Z
X-MICROSOFT-CDO-ALLDAYEVENT:FALSE
SUMMARY:Developers Council
DESCRIPTION:Expert panel discussion regarding the labor shortage in the homebuilding industry. The panel will discuss different programs and initiatives seeking to address the issue as well as how to encourage young people to enter the industry. \n\n \n\nPanelists to include:\n\nThomas Ott\, Principal of Osceola Technical College\n\nDebbie Rodriguez\, Central Florida iBuild program\n\nJavier Rojas\, Valencia College.\n\n\n\nThe Developers Council is a group of committed developers\, builders and associate members who meet monthly to discuss prominent issues and topics relating to the residential construction industry. Our programs include an opportunity to network\, enjoy a drink\, and engage in conversation with a professional panel on issues relating to residential building.
X-ALT-DESC;FMTTYPE=text/html:<span style="color:#403F42\;"><span style="font-family:arial\,sans-serif\;"><span style="font-size:10.0pt\;">Expert panel discussion regarding the labor shortage in the homebuilding industry. The panel will discuss different programs and initiatives seeking to address the issue as well as how to encourage young people to enter the industry.&nbsp\;</span></span></span><br />\n&nbsp\;<br />\n<span style="color:#403F42\;"><span style="font-family:arial\,sans-serif\;"><span style="font-size:10.0pt\;">Panelists to include:<br />\nThomas Ott\, Principal of Osceola&nbsp\;Technical College<br />\nDebbie Rodriguez\, Central Florida iBuild program<br />\nJavier Rojas\, Valencia College.</span></span></span><br />\n<br />\n<span style="font-size: 12px\;">The Developers Council is a group of committed developers\, builders and associate members who meet monthly to discuss prominent issues and topics relating to the residential construction industry. Our&nbsp\;programs&nbsp\;include&nbsp\;an opportunity to network\, enjoy a drink\, and engage in conversation with a professional&nbsp\;panel on issues relating to residential building.</span>
LOCATION:GOBA ODC Great Hall 1953 Clayton Heritage Way Maitland\, FL 32751
UID:e.9318.3189
SEQUENCE:3
DTSTAMP:20260419T160949Z
URL:https://members.greaterorlandoba.com/events/details/developers-council-02-22-2018-3189
END:VEVENT

END:VCALENDAR
