BEGIN:VCALENDAR
VERSION:2.0
PRODID:-//ChamberMaster//Event Calendar 2.0//EN
METHOD:PUBLISH
X-PUBLISHED-TTL:P3D
REFRESH-INTERVAL:P3D
CALSCALE:GREGORIAN
BEGIN:VEVENT
DTSTART:20160317T213000Z
DTEND:20160317T230000Z
X-MICROSOFT-CDO-ALLDAYEVENT:FALSE
SUMMARY:Developers Council
DESCRIPTION:"Competing in a Saturated Market"\n\n   Hosted by:\n\n    GOBA & Toll Brothers\n\n\n\n    Moderated by:\n\n    Lisa Dilts\, Principal\, Compspring\n\n \n\n    Panel: \n\n    Heather Hutchison\, Division Sales Manager\, Meritage Homes\n\n    Chris Cleary\, Land Acquisition Manager\, Toll Brothers\n\n                \n\nHeadline Sponsor: Rhett Alexander\n\nBar Sponsor: Floors & Tiles\n\n\n\nThe Developers Council is a group of committed developers\, builders and associate members who meet monthly to discuss prominent issues and topics relating to the residential construction industry. Our programs include an opportunity to network\, enjoy a drink\, and engage in conversation with a professional panel on issues relating to residential building.\n\n\n\nPlease contact Adrianna@GreaterOrlandoBA.com for details.
X-ALT-DESC;FMTTYPE=text/html:<br />\n<span style="font-size:14px\;"><span style="font-family:verdana\;"><span style="color: rgb(68\, 68\, 68)\; line-height: 23.1111px\;">&quot\;Competing in a Saturated Market&quot\;</span><br style="box-sizing: content-box\; bottom: auto\; clear: none\; color: rgb(68\, 68\, 68)\; content: normal\; direction: inherit\; display: inline\; empty-cells: show\; float: none\; font-stretch: inherit\; font-size: 16px\; font-family: 'Open Sans'\, sans-serif\; left: auto\; line-height: 23.1111px\; margin: 0px\; max-height: none\; max-width: none\; min-height: initial\; min-width: initial\; opacity: 1\; outline: invert none medium\; outline-offset: 0px\; overflow: visible\; padding: 0px\; position: static\; resize: none\; right: auto\; table-layout: auto\; text-overflow: clip\; top: auto\; vertical-align: baseline\; visibility: inherit\; word-break: inherit\; word-wrap: inherit\; z-index: auto\; border: none\; border-collapse: separate\; border-image-source: none\; border-image-slice: 100% 1 0\; border-image-repeat: stretch\; border-radius: 0px\; height: auto\; width: auto\; background-image: none\; background-attachment: initial\; background-size: initial\; background-origin: initial\; background-clip: initial\; background-position: initial\; background-repeat: initial\;" />\n<span style="color: rgb(68\, 68\, 68)\; line-height: 23.1111px\;">&nbsp\; &nbsp\;Hosted by:</span></span></span><br />\n&nbsp\;&nbsp\;&nbsp\;&nbsp\;<span style="font-size:14px\;"><span style="font-family:verdana\;"><span style="color: rgb(68\, 68\, 68)\; line-height: 23.1111px\;">GOBA&nbsp\;&amp\; <a href="https://www.tollbrothers.com/luxury-homes-for-sale/Florida/Lakeshore?cmpid=SGo23853&amp\;utm_medium=ppc&amp\;gclid=CMvf9JvOw8sCFYMdgQodbQ0GIA">Toll Brothers</a></span></span></span><br />\n<br />\n&nbsp\;&nbsp\;&nbsp\;&nbsp\;<span style="font-size:14px\;"><span style="font-family:verdana\;"><span style="color: rgb(68\, 68\, 68)\; line-height: 23.1111px\;">Moderated by:</span><br style="box-sizing: content-box\; bottom: auto\; clear: none\; color: rgb(68\, 68\, 68)\; content: normal\; direction: inherit\; display: inline\; empty-cells: show\; float: none\; font-stretch: inherit\; font-size: 16px\; font-family: 'Open Sans'\, sans-serif\; left: auto\; line-height: 23.1111px\; margin: 0px\; max-height: none\; max-width: none\; min-height: initial\; min-width: initial\; opacity: 1\; outline: invert none medium\; outline-offset: 0px\; overflow: visible\; padding: 0px\; position: static\; resize: none\; right: auto\; table-layout: auto\; text-overflow: clip\; top: auto\; vertical-align: baseline\; visibility: inherit\; word-break: inherit\; word-wrap: inherit\; z-index: auto\; border: none\; border-collapse: separate\; border-image-source: none\; border-image-slice: 100% 1 0\; border-image-repeat: stretch\; border-radius: 0px\; height: auto\; width: auto\; background-image: none\; background-attachment: initial\; background-size: initial\; background-origin: initial\; background-clip: initial\; background-position: initial\; background-repeat: initial\;" />\n<span style="color: rgb(68\, 68\, 68)\; line-height: 23.1111px\;">&nbsp\; &nbsp\; Lisa Dilts\, Principal\, Compspring<br />\n&#8203\;</span></span></span><br />\n&nbsp\;&nbsp\;&nbsp\;&nbsp\;<span style="font-size:14px\;"><span style="font-family:verdana\;"><span style="color: rgb(68\, 68\, 68)\; line-height: 23.1111px\;">Panel: </span></span></span><br />\n&nbsp\;&nbsp\;&nbsp\;&nbsp\;<span style="font-size:14px\;"><span style="font-family:verdana\;"><span style="color: rgb(68\, 68\, 68)\; line-height: 23.1111px\;">Heather Hutchison\, Division Sales Manager\, Meritage&nbsp\;Homes</span></span></span><br />\n&nbsp\;&nbsp\;&nbsp\;&nbsp\;<span style="font-size:14px\;"><span style="font-family:verdana\;"><span style="color: rgb(68\, 68\, 68)\; line-height: 23.1111px\;">Chris Cleary\, Land Acquisition Manager\,&nbsp\;Toll Brothers</span></span></span><br />\n&nbsp\;&nbsp\;&nbsp\;&nbsp\;&nbsp\;&nbsp\;&nbsp\;&nbsp\;&nbsp\;&nbsp\;&nbsp\;&nbsp\;&nbsp\;&nbsp\;&nbsp\;&nbsp\;<br />\n<span style="font-size:14px\;"><span style="font-family:verdana\;">Headline Sponsor: <a href="http://www.rhettalexander.com"><span style="color:#0000FF\;">Rhett Alexander</span></a><br />\n<span style="color:#000000\;">Bar Sponsor: </span><a href="http://www.floorsinorlando.com/"><span style="color:#0000FF\;">Floors &amp\; Tiles</span></a><br />\n<br style="box-sizing: content-box\; bottom: auto\; clear: none\; color: rgb(68\, 68\, 68)\; content: normal\; direction: inherit\; display: inline\; empty-cells: show\; float: none\; font-stretch: inherit\; font-size: 16px\; font-family: 'Open Sans'\, sans-serif\; left: auto\; line-height: 23.1111px\; margin: 0px\; max-height: none\; max-width: none\; min-height: initial\; min-width: initial\; opacity: 1\; outline: invert none medium\; outline-offset: 0px\; overflow: visible\; padding: 0px\; position: static\; resize: none\; right: auto\; table-layout: auto\; text-overflow: clip\; top: auto\; vertical-align: baseline\; visibility: inherit\; word-break: inherit\; word-wrap: inherit\; z-index: auto\; border: none\; border-collapse: separate\; border-image-source: none\; border-image-slice: 100% 1 0\; border-image-repeat: stretch\; border-radius: 0px\; height: auto\; width: auto\; background-image: none\; background-attachment: initial\; background-size: initial\; background-origin: initial\; background-clip: initial\; background-position: initial\; background-repeat: initial\;" />\n<span style="box-sizing: content-box\; bottom: auto\; clear: none\; color: rgb(68\, 68\, 68)\; content: normal\; direction: inherit\; empty-cells: show\; font-stretch: inherit\; left: auto\; line-height: inherit\; margin: 0px\; max-height: none\; max-width: none\; min-height: initial\; min-width: initial\; opacity: 1\; outline: invert none medium\; outline-offset: 0px\; overflow: visible\; padding: 0px\; position: static\; resize: none\; right: auto\; table-layout: auto\; text-overflow: clip\; top: auto\; vertical-align: baseline\; visibility: inherit\; word-break: inherit\; word-wrap: inherit\; z-index: auto\; border: none\; border-collapse: separate\; border-image-source: none\; border-image-slice: 100% 1 0\; border-image-repeat: stretch\; border-radius: 0px\; height: auto\; width: auto\; box-shadow: none\; background-image: none\; background-attachment: initial\; background-size: initial\; background-origin: initial\; background-clip: initial\; background-position: initial\; background-repeat: initial\;">The Developers Council is a group of committed developers\, builders and associate members who meet monthly to discuss prominent issues and topics relating to the residential construction industry. Our&nbsp\;programs&nbsp\;include&nbsp\;an opportunity to network\, enjoy a drink\, and engage in conversation with a professional&nbsp\;panel on issues relating to residential building.</span><br />\n<br />\nPlease contact Adrianna@GreaterOrlandoBA.com for details.</span></span><br style="line-height: 20.8px\;" />\n&nbsp\;
LOCATION:Lakeshore by Toll Brothers 15555 Panther Lake Drive* Winter Garden\, FL 34787 *If the address does not show up on GPS: Main entrance is 10300 Seidel Road\, Winter Garden\, FL 34787 From entrance\, take the road to the end and the home is on the right
UID:e.9318.3166
SEQUENCE:3
DTSTAMP:20260422T191450Z
URL:https://members.greaterorlandoba.com/events/details/developers-council-03-17-2016-3166
END:VEVENT

END:VCALENDAR
