BEGIN:VCALENDAR
VERSION:2.0
PRODID:-//ChamberMaster//Event Calendar 2.0//EN
METHOD:PUBLISH
X-PUBLISHED-TTL:P3D
REFRESH-INTERVAL:P3D
CALSCALE:GREGORIAN
BEGIN:VEVENT
DTSTART:20150326T220000Z
DTEND:20150326T160000Z
X-MICROSOFT-CDO-ALLDAYEVENT:FALSE
SUMMARY:Developers Council - 03/26/2015
DESCRIPTION:
X-ALT-DESC;FMTTYPE=text/html:
LOCATION:1953 Clayton Heritage Way Maitland\, FL 32751
UID:e.9318.638
SEQUENCE:3
DTSTAMP:20260423T134352Z
URL:https://members.greaterorlandoba.com/events/details/developers-council-03-26-2015-03-26-2015-638
END:VEVENT

END:VCALENDAR
