BEGIN:VCALENDAR
VERSION:2.0
PRODID:-//ChamberMaster//Event Calendar 2.0//EN
METHOD:PUBLISH
X-PUBLISHED-TTL:P3D
REFRESH-INTERVAL:P3D
CALSCALE:GREGORIAN
BEGIN:VEVENT
DTSTART:20150423T220000Z
DTEND:20150423T160000Z
X-MICROSOFT-CDO-ALLDAYEVENT:FALSE
SUMMARY:Developers Council - 04/23/2015
DESCRIPTION:
X-ALT-DESC;FMTTYPE=text/html:
LOCATION:8016 Pond Apple Drive Winter Garden\, FL 34787
UID:e.9318.651
SEQUENCE:3
DTSTAMP:20260423T121928Z
URL:https://members.greaterorlandoba.com/events/details/developers-council-04-23-2015-04-23-2015-651
END:VEVENT

END:VCALENDAR
