BEGIN:VCALENDAR
VERSION:2.0
PRODID:-//ChamberMaster//Event Calendar 2.0//EN
METHOD:PUBLISH
X-PUBLISHED-TTL:P3D
REFRESH-INTERVAL:P3D
CALSCALE:GREGORIAN
BEGIN:VEVENT
DTSTART:20160428T213000Z
DTEND:20160428T230000Z
X-MICROSOFT-CDO-ALLDAYEVENT:FALSE
SUMMARY:Developers Council
DESCRIPTION:ACCESS TO CAPITAL\n\n\n\nJoin us for networking and a discussion on accessing capital on new developments\, projects & land\, and access to residential mortage. Food and drinks will be served.\n\n\n\nPANEL: \n\n\n\nKelley Hailstone\, Chief Operating Officer\, FBC Mortgage (Residential Mortgage)\n\nMary Hurley\, Florida Division Director\, Land Advisors Capital (Equity Placement\, Land Banking)\n\nJustin Rowan\, Senior Vice President\, Piper Jaffray & Co (CDD Financing)\n\nSharon Thomas\, Chief Financial Officer\, Emerson International (Forecasting\, Valuations)\n\n   \n\nMODERATOR:\n\nTina Lee\, Land Entitlement Manager\, Ashton Woods\n\n\n\nThe Developers Council is a group of committed developers\, builders and associate members who meet monthly to discuss prominent issues and topics relating to the residential construction industry. Our programs include an opportunity to network\, enjoy a drink\, and engage in conversation with a professional panel on issues relating to residential building.
X-ALT-DESC;FMTTYPE=text/html:<span style="font-family:arial\;"><span style="font-size:14px\;">ACCESS TO CAPITAL<br />\n<br />\nJoin us for networking and a discussion on accessing capital on new developments\, projects &amp\; land\, and access to residential mortage. Food and drinks will be served.<br />\n<br />\nPANEL:&nbsp\;</span></span><br />\n<br />\n<strong style="font-family: arial\; font-size: 14px\; line-height: 22.4px\;">Kelley Hailstone</strong><span style="font-family: arial\; font-size: 14px\; line-height: 22.4px\;">\, Chief Operating Officer\,&nbsp\;FBC Mortgage (Residential Mortgage)</span><br />\n<span style="font-family:arial\;"><span style="font-size:14px\;"><strong>Mary Hurley</strong>\, Florida Division Director\,&nbsp\;Land Advisors Capital (Equity Placement\, Land Banking)<br />\n<strong>Justin Rowan</strong>\, Senior Vice President\,&nbsp\;Piper Jaffray&nbsp\;&amp\; Co (CDD Financing)</span></span><br />\n<strong style="font-family: arial\; font-size: 14px\; line-height: 22.4px\;">Sharon Thomas</strong><span style="font-family: arial\; font-size: 14px\; line-height: 22.4px\;">\, Chief Financial Officer\,&nbsp\;Emerson International (Forecasting\, Valuations)</span><br />\n<span style="font-family:arial\;"><span style="font-size:14px\;">&nbsp\; &nbsp\;<br />\nMODERATOR:<br />\n<strong>Tina Lee</strong>\, Land Entitlement Manager\,&nbsp\;Ashton Woods<br />\n<br />\nThe Developers Council is a group of committed developers\, builders and associate members who meet monthly to discuss prominent issues and topics relating to the residential construction industry. Our&nbsp\;programs&nbsp\;include&nbsp\;an opportunity to network\, enjoy a drink\, and engage in conversation with a professional&nbsp\;panel on issues relating to residential building.</span></span>
LOCATION:GOBA ODC Great Hall 1953 Clayton Heritage Way Maitland\, FL 32751
UID:e.9318.3167
SEQUENCE:3
DTSTAMP:20260422T174707Z
URL:https://members.greaterorlandoba.com/events/details/developers-council-04-28-2016-3167
END:VEVENT

END:VCALENDAR
