BEGIN:VCALENDAR
VERSION:2.0
PRODID:-//ChamberMaster//Event Calendar 2.0//EN
METHOD:PUBLISH
X-PUBLISHED-TTL:P3D
REFRESH-INTERVAL:P3D
CALSCALE:GREGORIAN
BEGIN:VEVENT
DTSTART:20160526T213000Z
DTEND:20160526T230000Z
X-MICROSOFT-CDO-ALLDAYEVENT:FALSE
SUMMARY:Developers Council
DESCRIPTION:Small Developers Forum\n\n\n\nJoin us for networking and a discussion on development\, land deals and current marketplace costs from some of Central Florida's top development firms. Food and drinks will be served.\n\n\n\nPANEL: \n\n\n\nMike Galvin\, President\, CG Land Services\, LLC.\n\nRandy June\, President\, June Engineering Consultants\n\nAllan Keen\, Chairman & CEO\, The Keewin Real Property Company\n\n   \n\nMODERATOR:\n\nMcKinzie Terrill\, Vice President of Land\, Ashton Woods\n\n\n\nThe Developers Council is a group of committed developers\, builders and associate members who meet monthly to discuss prominent issues and topics relating to the residential construction industry. Our programs include an opportunity to network\, enjoy a drink\, and engage in conversation with a professional panel on issues relating to residential building.
X-ALT-DESC;FMTTYPE=text/html:<span style="font-family:tahoma\;"><span style="font-size:14px\;"><strong>Small Developers Forum</strong><br />\n<br />\nJoin us for networking and a discussion on development\, land deals and current marketplace costs from some of Central Florida&#39\;s top development firms. Food and drinks will be served.</span></span><br />\n<br />\n<span style="font-family:tahoma\;"><span style="font-size:14px\;">PANEL:&nbsp\;<br />\n<br />\n<strong>Mike Galvin</strong>\, President\, CG Land Services\, LLC.<br />\n<strong>Randy June</strong>\, President\, June Engineering Consultants<br />\n<strong>Allan Keen</strong>\, Chairman &amp\; CEO\, The Keewin Real Property Company<br />\n&nbsp\; &nbsp\;<br />\nMODERATOR:<br />\n<strong><span data-scayt-lang="en_US" data-scayt-word="McKinzie" style="background-position-x:52%\;background-position-y:100%\;">McKinzie</span>&nbsp\;<span data-scayt-lang="en_US" data-scayt-word="Terrill" style="background-position-x:52%\;background-position-y:100%\;">Terrill</span></strong>\, Vice President of Land\,&nbsp\;Ashton Woods</span></span><br />\n<br />\n<span style="font-size:12px\;">The Developers Council is a group of committed developers\, builders and associate members who meet monthly to discuss prominent issues and topics relating to the residential construction industry. Our&nbsp\;programs&nbsp\;include&nbsp\;an opportunity to network\, enjoy a drink\, and engage in conversation with a professional&nbsp\;panel on issues relating to residential building.</span>
LOCATION:GOBA ODC Great Hall 1953 Clayton Heritage Way Maitland\, FL 32751
UID:e.9318.3168
SEQUENCE:3
DTSTAMP:20260422T161332Z
URL:https://members.greaterorlandoba.com/events/details/developers-council-05-26-2016-3168
END:VEVENT

END:VCALENDAR
