BEGIN:VCALENDAR
VERSION:2.0
PRODID:-//ChamberMaster//Event Calendar 2.0//EN
METHOD:PUBLISH
X-PUBLISHED-TTL:P3D
REFRESH-INTERVAL:P3D
CALSCALE:GREGORIAN
BEGIN:VEVENT
DTSTART:20170824T213000Z
DTEND:20170824T230000Z
X-MICROSOFT-CDO-ALLDAYEVENT:FALSE
SUMMARY:Developers Council
DESCRIPTION:Expert panel discussion on Amenities. Highlighting innovating and unique residential amenities from communities around Cental Florida. And discussing what works and what doesn't\, and how to get the most bang for your buck. \n\n\n\nThe Panel Discussion will be moderated by James Penny of Ovida Construction Group. Panelists include:\n\nTodd Bonnett - Bonnett Design Group \n\nKevin Moore - Butler Moore Architects \n\nMichael Roche - Starlight Homes
X-ALT-DESC;FMTTYPE=text/html:Expert panel discussion&nbsp\;on Amenities. Highlighting innovating and unique residential amenities from communities around Cental Florida. And discussing what works and what doesn&#39\;t\, and how to get the most bang for your buck.&nbsp\;<br />\n<br />\nThe Panel Discussion will be moderated by James Penny of Ovida Construction Group. Panelists include:<br />\nTodd Bonnett - Bonnett Design Group&nbsp\;<br />\nKevin Moore - Butler Moore Architects&nbsp\;<br />\nMichael Roche - Starlight Homes<br />\n&nbsp\;
LOCATION:GOBA ODC Great Hall 1953 Clayton Heritage Way Maitland\, FL 32751
UID:e.9318.3183
SEQUENCE:3
DTSTAMP:20260421T172814Z
URL:https://members.greaterorlandoba.com/events/details/developers-council-08-24-2017-3183
END:VEVENT

END:VCALENDAR
