BEGIN:VCALENDAR
VERSION:2.0
PRODID:-//ChamberMaster//Event Calendar 2.0//EN
METHOD:PUBLISH
X-PUBLISHED-TTL:P3D
REFRESH-INTERVAL:P3D
CALSCALE:GREGORIAN
BEGIN:VEVENT
DTSTART:20180927T213000Z
DTEND:20180927T230000Z
X-MICROSOFT-CDO-ALLDAYEVENT:FALSE
SUMMARY:Developers Council
DESCRIPTION:Click here for event flyer\n\n\n\n***LAKE NONA UPDATE****\n\n\n\nCome learn about all the new and exciting development happening in the Lake Nona area from our all star expert panel.\n\nPanelists include:\n\n	\n		\n			\n			\n				\n					\n						\n						\n							Rob Adams\, Tavistock\n							Russ Beymer\, Beazer\n							Tim Johnson\, City of Orlando\n						\n						\n					\n				\n			\n\n			 \n			\n		\n	\n\n\n \nThe Lake Nona Update is sponsored and proudly presented by the Winter Park Publishing Company. Free copies of their magazine\, Lake Nona edition\, will be provided.\n\n\n\nThe Developers Council is a group of committed developers\, builders and associate members who meet monthly to discuss prominent issues and topics relating to the residential construction industry. Our programs include an opportunity to network\, enjoy a drink\, and engage in conversation with a professional panel on issues relating to residential building.
X-ALT-DESC;FMTTYPE=text/html:<a href="https://chambermaster.blob.core.windows.net/userfiles/UserFiles/chambers/9318/File/DCFlyerfor9.27.pdf">Click here for event flyer</a><br />\n<br />\n<span style="font-size:16px\;"><u><strong>***LAKE NONA UPDATE****</strong></u></span><br />\n<br />\nCome learn about all the new and exciting development happening in the Lake Nona area from our all star expert panel.<br />\nPanelists include:\n<table align="center" border="0" cellpadding="0" cellspacing="0" style="width:100.0%\;background:whitesmoke\;" width="100%">\n	<tbody>\n		<tr>\n			<td style="padding:0in 0in 0in 0in\;vertical-align:top\;">\n			<table align="center" border="0" cellpadding="0" cellspacing="0" style="width:100.0%\;background:whitesmoke\;" width="100%">\n				<tbody>\n					<tr>\n						<td style="background:transparent\;padding:0in 0in 0in 0in\;vertical-align:top\;">\n						<ol>\n							<li style="margin-left:0in\;">Rob Adams\, Tavistock</li>\n							<li style="margin-left:0in\;">Russ Beymer\, Beazer</li>\n							<li style="margin-left:0in\;">Tim Johnson\, City of Orlando</li>\n						</ol>\n						</td>\n					</tr>\n				</tbody>\n			</table>\n\n			<div style="clear:both\;">&nbsp\;</div>\n			</td>\n		</tr>\n	</tbody>\n</table>\n\n<div style="clear:both\;">&nbsp\;</div>\n<span style="font-size: 12px\;"><span style="font-size:16px\;"><strong>The Lake Nona Update is sponsored and proudly presented by the Winter Park Publishing Company. Free copies of their magazine\, Lake Nona edition\, will be provided.</strong></span><br />\n<br />\nThe Developers Council is a group of committed developers\, builders and associate members who meet monthly to discuss prominent issues and topics relating to the residential construction industry. Our&nbsp\;programs&nbsp\;include&nbsp\;an opportunity to network\, enjoy a drink\, and engage in conversation with a professional&nbsp\;panel on issues relating to residential building.</span>
LOCATION:GOBA ODC Great Hall 1953 Clayton Heritage Way Maitland\, FL 32751
UID:e.9318.3196
SEQUENCE:3
DTSTAMP:20260420T031618Z
URL:https://members.greaterorlandoba.com/events/details/developers-council-09-27-2018-3196
END:VEVENT

END:VCALENDAR
