BEGIN:VCALENDAR
VERSION:2.0
PRODID:-//ChamberMaster//Event Calendar 2.0//EN
METHOD:PUBLISH
X-PUBLISHED-TTL:P3D
REFRESH-INTERVAL:P3D
CALSCALE:GREGORIAN
BEGIN:VEVENT
DTSTART:20171004T213000Z
DTEND:20171004T230000Z
X-MICROSOFT-CDO-ALLDAYEVENT:FALSE
SUMMARY:Developers Council
DESCRIPTION:"Active Adult   Which Amenities Matter?"\n\n \n\nJoin us October 4th at the GOBA Developers Council as Mike Timmerman\, Senior Vice President at Meyers Research\, examines the amenities in the Active Adult (55+) market in Central Florida. From golf and walking trails to amenity centers and resort-style pools\, we'll discuss the amenities that are selling\, and differences in reaching this unique demographic. Following Mike's presentation\, we'll dive deeper with an Active Adult panel of experts.\n\n \n\nThe Active Adult Panelists are:\n\n \n\nJeff Wochner   Division President\, Beazer Homes\n\nKelley Finley   Vice President of Marketing\, AV Homes\n\nBill Fife   Director\, Melrose Lifestyle Services\n\n \n\nOpen to all GOBA members especially those selling\, or interested in selling\, Active Adults.\n\n \n\n**Due to hurricane damage to the GOBA building\, we will meet at the Winter Park Chamber of Commerce.**  \n\n \n\nWinter Park Chamber of Commerce\n\n151 W Lyman Ave\, Winter Park\, FL 32789
X-ALT-DESC;FMTTYPE=text/html:&nbsp\;<br />\n<strong><span style="color:#4F81BD\;"><span style="font-size:14.0pt\;">&ldquo\;Active Adult &ndash\; Which Amenities Matter?&rdquo\;</span></span></strong><br />\n&nbsp\;<br />\nJoin us October 4<sup>th</sup> at the GOBA Developers Council as Mike Timmerman\, Senior Vice President at Meyers Research\, examines the amenities in the Active Adult (55+) market in Central Florida. From golf and walking trails to amenity centers and resort-style pools\, we&rsquo\;ll discuss the amenities that are selling\, and differences in reaching this unique demographic. Following Mike&rsquo\;s presentation\, we&rsquo\;ll dive deeper with an Active Adult panel of experts.<br />\n&nbsp\;<br />\nThe Active Adult Panelists are:<br />\n&nbsp\;<br />\n<strong>Jeff Wochner</strong> &ndash\; Division President\, Beazer Homes<br />\n<strong>Kelley Finley</strong> &ndash\; Vice President of Marketing\, AV Homes<br />\n<strong>Bill Fife</strong> &ndash\; Director\, Melrose Lifestyle Services<br />\n&nbsp\;<br />\nOpen to all GOBA members&mdash\;especially those selling\, or interested in selling\, Active Adults.<br />\n&nbsp\;<br />\n**Due to hurricane damage to the GOBA building\, we will meet at the Winter Park Chamber of Commerce.** &nbsp\;<br />\n&nbsp\;<br />\nWinter Park Chamber of Commerce<br />\n151 W Lyman Ave\, Winter Park\, FL 32789<br />\n&nbsp\;<br />\n<br />\n<br />\n<br />\n<br />\n&nbsp\;
LOCATION:Winter Park Chamber of Commerce 151 W Lyman Ave\, Winter Park\, FL 32789
UID:e.9318.3184
SEQUENCE:3
DTSTAMP:20260421T142518Z
URL:https://members.greaterorlandoba.com/events/details/developers-council-09-28-2017-3184
END:VEVENT

END:VCALENDAR
