BEGIN:VCALENDAR
VERSION:2.0
PRODID:-//ChamberMaster//Event Calendar 2.0//EN
METHOD:PUBLISH
X-PUBLISHED-TTL:P3D
REFRESH-INTERVAL:P3D
CALSCALE:GREGORIAN
BEGIN:VEVENT
DTSTART:20171026T213000Z
DTEND:20171026T230000Z
X-MICROSOFT-CDO-ALLDAYEVENT:FALSE
SUMMARY:Developers Council
DESCRIPTION:Exciting discussion and update on Central Florida attractions--what's hot\, what do people want\, and what's coming next!  Fantastic panelists include:\n\n\n\nMark Waltrip\, COO for Westgate Resorts\n\nMaria Triscari\, President/CEO\, International Drive Resort Area Chamber of Commerce\n\n\n\nThis event is not to be missed!
X-ALT-DESC;FMTTYPE=text/html:<strong><span style="font-size:16px\;"><span style="font-family:times new roman\;">Exciting discussion and update on Central Florida attractions--what&#39\;s hot\, what do people want\, and what&#39\;s coming next!&nbsp\; Fantastic panelists include:<br />\n<br />\nMark Waltrip\, COO for Westgate Resorts<br />\nMaria Triscari\, President/CEO\, International Drive Resort Area Chamber of Commerce<br />\n<br />\nThis event is not to be missed!</span></span></strong>
LOCATION:GOBA ODC Great Hall 1953 Clayton Heritage Way Maitland\, FL 32751
UID:e.9318.3185
SEQUENCE:3
DTSTAMP:20260421T142519Z
URL:https://members.greaterorlandoba.com/events/details/developers-council-10-26-2017-3185
END:VEVENT

END:VCALENDAR
