BEGIN:VCALENDAR
VERSION:2.0
PRODID:-//ChamberMaster//Event Calendar 2.0//EN
METHOD:PUBLISH
X-PUBLISHED-TTL:P3D
REFRESH-INTERVAL:P3D
CALSCALE:GREGORIAN
BEGIN:VEVENT
DTSTART:20161027T213000Z
DTEND:20161027T230000Z
X-MICROSOFT-CDO-ALLDAYEVENT:FALSE
SUMMARY:Developers Council
DESCRIPTION:Central Florida Market: North vs. South/ Seminole vs. Osceola\n\n\n\nJoin us for a lively discussion regarding the growth opportunities and smart development in Seminole and Osceola Counties.  \n\nPanelists will go head to head to promote and defend why their county is more outstanding in several arenas\, including\; Economics\, schools\, professional job growth\, new exciting projects\, location/access to major roads or new roads\, home pricing\, land availability\, Future growth corridors\, and Governmental climates.\n\n\n\nWho will win this North vs. South Smack down?  Join us at the October Developers Council meeting to find out! \n\n \n\nModerator: Chris Cleary\, Land Acquisition Manager\, Toll Brothers\, Inc.\n\n \n\nPanelists:\n\nTeam Seminole County: \n\nTom Krueger\, Economic Development Director\, City of Longwood\n\nGary Brender\, City of Lake Mary Commissioner \n\nNeel Schivcharran\, Land Acquisition Manager\, David Weekly Homes\n\nChris Gardner\, Condev Development\n\n \n\nTeam Osceola County:\n\nBelinda Ortiz Kirkegard\, Economic Development Director \, City of Kisssimmee\n\nDrew Abel\, Director of Land Acquisition and Development\, Mattamy Homes\n\nFred Hawkins\, Osceola County Commissioner
X-ALT-DESC;FMTTYPE=text/html:<strong><span style="font-family:calibri\,sans-serif\;"><span style="font-size:12.0pt\;">Central Florida Market: North vs. South/ Seminole vs. Osceola</span></span></strong><br />\n<br />\n<span style="font-family:calibri\,sans-serif\;"><span style="font-size:12.0pt\;">Join us for a lively discussion regarding the growth opportunities and smart development in Seminole and Osceola Counties. &nbsp\;<br />\nPanelists will go head to head to promote and defend why their county is more outstanding in several arenas\, including\;&nbsp\;</span></span><span style="font-family: calibri\, sans-serif\;"><span style="font-size: 11pt\;">Economics\,&nbsp\;</span></span><span style="font-family: calibri\, sans-serif\;"><span style="font-size: 11pt\;">schools\, professional job growth\, new exciting projects\, location/access to major roads or new roads\, home pricing\, land availability\,&nbsp\;</span></span><span style="font-family: calibri\, sans-serif\;"><span style="font-size: 11pt\;">Future growth corridors\, and&nbsp\;</span></span><span style="font-family: calibri\, sans-serif\;"><span style="font-size: 11pt\;">Governmental climates.<br />\n<br />\nWho will win this North vs. South Smack&nbsp\;down? &nbsp\;Join us at the October Developers Council meeting to find out!&nbsp\;</span></span><br />\n&nbsp\;<br />\n<strong><span style="font-family:calibri\,sans-serif\;"><span style="font-size:12.0pt\;">Moderator:</span></span></strong><span style="font-family:calibri\,sans-serif\;"><span style="font-size:12.0pt\;"> Chris Cleary\, Land Acquisition Manager\, Toll Brothers\, Inc.</span></span><br />\n&nbsp\;<br />\n<strong><span style="font-family:calibri\,sans-serif\;"><span style="font-size:12.0pt\;">Panelists:</span></span></strong><br />\n<strong><span style="font-family:calibri\,sans-serif\;"><span style="font-size:12.0pt\;">Team Seminole County: </span></span></strong><br />\n<font face="calibri\, sans-serif"><span style="font-size: 16px\;">Tom Krueger\, Economic Development Director\, City of Longwood<br />\nGary Brender\, City of Lake Mary Commissioner&nbsp\;</span></font><br />\n<span style="font-family:calibri\,sans-serif\;"><span style="font-size:12.0pt\;">Neel Schivcharran\, Land Acquisition Manager\, David Weekly Homes<br />\nChris Gardner\, Condev&nbsp\;Development</span></span><br />\n&nbsp\;<br />\n<strong><span style="font-family:calibri\,sans-serif\;"><span style="font-size:12.0pt\;">Team Osceola County:</span></span></strong><br />\n<span style="font-family:calibri\,sans-serif\;"><span style="font-size:12.0pt\;">Belinda Ortiz Kirkegard\, Economic Development Director \, City of Kisssimmee</span></span><br />\n<span style="font-family:calibri\,sans-serif\;"><span style="font-size:12.0pt\;">Drew Abel\, Director of Land Acquisition and Development\, Mattamy Homes</span></span><br />\n<span style="font-family:calibri\,sans-serif\;"><span style="font-size:12.0pt\;">Fred Hawkins\, Osceola County Commissioner</span></span><br />\n&nbsp\;
LOCATION:Park Square Homes 5200 Vineland Rd #200\, Orlando\, FL 32811 (Use Design Center Entrance)
UID:e.9318.3173
SEQUENCE:3
DTSTAMP:20260422T083659Z
URL:https://members.greaterorlandoba.com/events/details/developers-council-10-27-2016-3173
END:VEVENT

END:VCALENDAR
