BEGIN:VCALENDAR
VERSION:2.0
PRODID:-//ChamberMaster//Event Calendar 2.0//EN
METHOD:PUBLISH
X-PUBLISHED-TTL:P3D
REFRESH-INTERVAL:P3D
CALSCALE:GREGORIAN
BEGIN:VEVENT
DTSTART:20181107T223000Z
DTEND:20181108T000000Z
X-MICROSOFT-CDO-ALLDAYEVENT:FALSE
SUMMARY:Developers Council
DESCRIPTION:Come learn about the future of transportation and how it will affect development going forward from an all-star panel\, including:\n\n \n\nKelda Senior\,\n\nBusiness Development Manager of SunTrax\n\n \n\nBrett Blackadar\,\n\nChief Transportation Engineer for City of Altamonte Springs\n\n \n\nNicola Liquori\,\n\nChief Executive Officer of Sunrail\n\n\n\n\n\nThe Developers Council is a group of committed developers\, builders and associate members who meet monthly to discuss prominent issues and topics relating to the residential construction industry. Our programs include an opportunity to network\, enjoy a drink\, and engage in conversation with a professional panel on issues relating to residential building.
X-ALT-DESC;FMTTYPE=text/html:<br />\n<span style="font-size:16px\;"><strong>Come learn about the future of transportation and how it will affect development going forward from an all-star panel\, including:</strong></span><br />\n&nbsp\;<br />\n<span style="font-size:14px\;">Kelda Senior\,<br />\n<em>Business Development Manager of SunTrax</em><br />\n&nbsp\;<br />\nBrett Blackadar\,<br />\n<em>Chief Transportation Engineer for City of Altamonte Springs</em><br />\n&nbsp\;<br />\nNicola Liquori\,<br />\n<em>Chief Executive Officer of Sunrail</em></span><br />\n<br />\n<br />\n<span style="font-size: 12px\;">The Developers Council is a group of committed developers\, builders and associate members who meet monthly to discuss prominent issues and topics relating to the residential construction industry. Our&nbsp\;programs&nbsp\;include&nbsp\;an opportunity to network\, enjoy a drink\, and engage in conversation with a professional&nbsp\;panel on issues relating to residential building.</span>
LOCATION:GOBA ODC Great Hall 1953 Clayton Heritage Way Maitland\, FL 32751
UID:e.9318.3198
SEQUENCE:3
DTSTAMP:20260420T064558Z
URL:https://members.greaterorlandoba.com/events/details/developers-council-11-22-2018-3198
END:VEVENT

END:VCALENDAR
