BEGIN:VCALENDAR
VERSION:2.0
PRODID:-//ChamberMaster//Event Calendar 2.0//EN
METHOD:PUBLISH
X-PUBLISHED-TTL:P3D
REFRESH-INTERVAL:P3D
CALSCALE:GREGORIAN
BEGIN:VEVENT
DTSTART:20180823T213000Z
DTEND:20180823T230000Z
X-MICROSOFT-CDO-ALLDAYEVENT:FALSE
SUMMARY:Developers Council End of Summer Social
DESCRIPTION:The Developers Council will be having an End of Summer Social at Hanover Capital Partners located at 605 Commonwealth Ave\, Orlando\, FL 32803.   Come out and have some end of summer fun and networking with fellow industry professionals.\n\n\n\nThe Developers Council is a group of committed developers\, builders and associate members who meet monthly to discuss prominent issues and topics relating to the residential construction industry. Our programs include an opportunity to network\, enjoy a drink\, and engage in conversation with a professional panel on issues relating to residential building.
X-ALT-DESC;FMTTYPE=text/html:<span style="font-size:12px\;"><strong><span style="font-size:14px\;">The Developers Council will be having an End of Summer Social at Hanover Capital Partners located at&nbsp\;<span style="color: rgb(34\, 34\, 34)\; background-color: rgb(255\, 255\, 255)\;">605 Commonwealth Ave\, Orlando\, FL 32803.&nbsp\; &nbsp\;Come out and have some end of summer fun and networking with fellow industry professionals.</span></span></strong></span><br />\n<br />\n<span style="font-size: 12px\;">The Developers Council is a group of committed developers\, builders and associate members who meet monthly to discuss prominent issues and topics relating to the residential construction industry. Our&nbsp\;programs&nbsp\;include&nbsp\;an opportunity to network\, enjoy a drink\, and engage in conversation with a professional&nbsp\;panel on issues relating to residential building.</span>
LOCATION:Hanover Capital Partners 605 Commonwealth Ave\, Orlando\, FL 32803.
UID:e.9318.3195
SEQUENCE:3
DTSTAMP:20260420T013808Z
URL:https://members.greaterorlandoba.com/events/details/developers-council-end-of-summer-social-3195
END:VEVENT

END:VCALENDAR
