BEGIN:VCALENDAR
VERSION:2.0
PRODID:-//ChamberMaster//Event Calendar 2.0//EN
METHOD:PUBLISH
X-PUBLISHED-TTL:P3D
REFRESH-INTERVAL:P3D
CALSCALE:GREGORIAN
BEGIN:VEVENT
DTSTART:20180503T160000Z
DTEND:20180503T170000Z
X-MICROSOFT-CDO-ALLDAYEVENT:FALSE
SUMMARY:Developers Council--Horizon West Update Lunch
DESCRIPTION:Update on all things development in Horizon West with Orange County Commissioner Betsy VanderLey\, Orange County School Board Member Pam Gould\, and Orange County planning staff. \n\n\n\nCome learn all about what is happening in Orange County's fastest growing area and what is coming next\, while enjoying a great lunch sponsored by June Engineering.\n\n\n\nThe Developers Council is a group of committed developers\, builders and associate members who meet monthly to discuss prominent issues and topics relating to the residential construction industry. Our programs include an opportunity to network\, enjoy a drink\, and engage in conversation with a professional panel on issues relating to residential building.
X-ALT-DESC;FMTTYPE=text/html:<span style="color: rgb(51\, 51\, 51)\; font-family: sans-serif\, Arial\, Verdana\, &quot\;Trebuchet MS&quot\;\; font-size: 13px\; background-color: rgb(255\, 255\, 255)\;">Update on all things development in Horizon West with Orange County Commissioner Betsy&nbsp\;</span>VanderLey<span style="color: rgb(51\, 51\, 51)\; font-family: sans-serif\, Arial\, Verdana\, &quot\;Trebuchet MS&quot\;\; font-size: 13px\; background-color: rgb(255\, 255\, 255)\;">\, Orange County School Board Member Pam Gould\, and Orange County planning staff.&nbsp\;</span><br style="color: rgb(51\, 51\, 51)\; font-family: sans-serif\, Arial\, Verdana\, &quot\;Trebuchet MS&quot\;\; font-size: 13px\;" />\n<br style="color: rgb(51\, 51\, 51)\; font-family: sans-serif\, Arial\, Verdana\, &quot\;Trebuchet MS&quot\;\; font-size: 13px\;" />\n<span style="color: rgb(51\, 51\, 51)\; font-family: sans-serif\, Arial\, Verdana\, &quot\;Trebuchet MS&quot\;\; font-size: 13px\; background-color: rgb(255\, 255\, 255)\;">Come learn all about what is happening in Orange County&#39\;s fastest growing area and what&nbsp\;is coming next\, while enjoying a great lunch sponsored by June Engineering.</span><br />\n<br />\n<span style="font-size: 12px\;">The Developers Council is a group of committed developers\, builders and associate members who meet monthly to discuss prominent issues and topics relating to the residential construction industry. Our&nbsp\;programs&nbsp\;include&nbsp\;an opportunity to network\, enjoy a drink\, and engage in conversation with a professional&nbsp\;panel on issues relating to residential building.</span>
LOCATION:GOBA ODC Great Hall 1953 Clayton Heritage Way Maitland\, FL 32751
UID:e.9318.3191
SEQUENCE:3
DTSTAMP:20260419T210418Z
URL:https://members.greaterorlandoba.com/events/details/developers-council-horizon-west-update-lunch-3191
END:VEVENT

END:VCALENDAR
