BEGIN:VCALENDAR
VERSION:2.0
PRODID:-//ChamberMaster//Event Calendar 2.0//EN
METHOD:PUBLISH
X-PUBLISHED-TTL:P3D
REFRESH-INTERVAL:P3D
CALSCALE:GREGORIAN
BEGIN:VEVENT
DTSTART:20150122T230000Z
DTEND:20150122T170000Z
X-MICROSOFT-CDO-ALLDAYEVENT:FALSE
SUMMARY:Developers Council - Lake County
DESCRIPTION:
X-ALT-DESC;FMTTYPE=text/html:
LOCATION:1953 Clayton Heritage Way Maitland\, FL 32751
UID:e.9318.617
SEQUENCE:3
DTSTAMP:20260423T164547Z
URL:https://members.greaterorlandoba.com/events/details/developers-council-lake-county-01-22-2015-617
END:VEVENT

END:VCALENDAR
