BEGIN:VCALENDAR
VERSION:2.0
PRODID:-//ChamberMaster//Event Calendar 2.0//EN
METHOD:PUBLISH
X-PUBLISHED-TTL:P3D
REFRESH-INTERVAL:P3D
CALSCALE:GREGORIAN
BEGIN:VEVENT
DTSTART:20180125T223000Z
DTEND:20180126T000000Z
X-MICROSOFT-CDO-ALLDAYEVENT:FALSE
SUMMARY:Developers Council- New Year\, New Connections Social
DESCRIPTION:Come network\, socialize and make new connections for the New Year!\n\n\n\nThe Developers Council is a group of committed developers\, builders and associate members who meet monthly to discuss prominent issues and topics relating to the residential construction industry. Our programs include an opportunity to network\, enjoy a drink\, and engage in conversation with a professional panel on issues relating to residential building.
X-ALT-DESC;FMTTYPE=text/html:Come network\, socialize and make new connections&nbsp\;for the New Year!<br />\n<br />\n<span style="font-size: 12px\;">The Developers Council is a group of committed developers\, builders and associate members who meet monthly to discuss prominent issues and topics relating to the residential construction industry. Our&nbsp\;programs&nbsp\;include&nbsp\;an opportunity to network\, enjoy a drink\, and engage in conversation with a professional&nbsp\;panel on issues relating to residential building.</span>
LOCATION:Orange County Brewers 131 N. Orange Avenue Orlando\, FL 32801
UID:e.9318.3188
SEQUENCE:3
DTSTAMP:20260419T144109Z
URL:https://members.greaterorlandoba.com/events/details/developers-council-new-year-new-connections-social-01-25-2018-3188
END:VEVENT

END:VCALENDAR
