BEGIN:VCALENDAR
VERSION:2.0
PRODID:-//ChamberMaster//Event Calendar 2.0//EN
METHOD:PUBLISH
X-PUBLISHED-TTL:P3D
REFRESH-INTERVAL:P3D
CALSCALE:GREGORIAN
BEGIN:VEVENT
DTSTART:20150827T220000Z
DTEND:20150827T160000Z
X-MICROSOFT-CDO-ALLDAYEVENT:FALSE
SUMMARY:Developers Council Summer Social - 08/27/2015
DESCRIPTION:
X-ALT-DESC;FMTTYPE=text/html:
LOCATION:55 West Church Street Suite 205 Orlando\, FL 32806
UID:e.9318.685
SEQUENCE:3
DTSTAMP:20260423T062053Z
URL:https://members.greaterorlandoba.com/events/details/developers-council-summer-social-08-27-2015-08-27-2015-685
END:VEVENT

END:VCALENDAR
