BEGIN:VCALENDAR
VERSION:2.0
PRODID:-//ChamberMaster//Event Calendar 2.0//EN
METHOD:PUBLISH
X-PUBLISHED-TTL:P3D
REFRESH-INTERVAL:P3D
CALSCALE:GREGORIAN
BEGIN:VEVENT
DTSTART:20180524T213000Z
DTEND:20180524T230000Z
X-MICROSOFT-CDO-ALLDAYEVENT:FALSE
SUMMARY:Developers Council - Update on Osceola County Moratorium/LDC
DESCRIPTION:Osceola County Staff\, including Kerry Godwin the Director of Planning and Design\, will be presenting an update/recap on the recent countywide development moratorium and the upcoming proposed land development code changes.  \n\n\n\nThe Developers Council is a group of committed developers\, builders and associate members who meet monthly to discuss prominent issues and topics relating to the residential construction industry. Our programs include an opportunity to network\, enjoy a drink\, and engage in conversation with a professional panel on issues relating to residential building.
X-ALT-DESC;FMTTYPE=text/html:<strong><span style="font-family: arial\, sans-serif\; font-size: 12px\; background-color: rgb(255\, 255\, 255)\;">Osceola County Staff\, including Kerry Godwin the Director of Planning and Design\, will be presenting an update/recap on the recent countywide development moratorium and the upcoming proposed land development code changes.&nbsp\;&nbsp\;</span></strong><br />\n<br />\n<span style="font-size: 12px\;">The Developers Council is a group of committed developers\, builders and associate members who meet monthly to discuss prominent issues and topics relating to the residential construction industry. Our&nbsp\;programs&nbsp\;include&nbsp\;an opportunity to network\, enjoy a drink\, and engage in conversation with a professional&nbsp\;panel on issues relating to residential building.</span><br />\n<br />\n&nbsp\;
LOCATION:Starlite Ballroom at Solivita 384 Village Drive Poinciana\, FL 34759
UID:e.9318.3192
SEQUENCE:3
DTSTAMP:20260419T210454Z
URL:https://members.greaterorlandoba.com/events/details/developers-council-update-on-osceola-county-moratorium-ldc-3192
END:VEVENT

END:VCALENDAR
