BEGIN:VCALENDAR
VERSION:2.0
PRODID:-//ChamberMaster//Event Calendar 2.0//EN
METHOD:PUBLISH
X-PUBLISHED-TTL:P3D
REFRESH-INTERVAL:P3D
CALSCALE:GREGORIAN
BEGIN:VEVENT
DTSTART:20200408T123000Z
DTEND:20200408T140000Z
X-MICROSOFT-CDO-ALLDAYEVENT:FALSE
SUMMARY:Finance & Executive Committee ZOOM Meeting
DESCRIPTION:The Finance & Executive Committee meetings are held the second Wednesday of every month at 8:30am.  Invite Only.  Held my ZOOM Meeting.
X-ALT-DESC;FMTTYPE=text/html:<h1 style="font-weight: inherit\; line-height: 1.1\; box-sizing: content-box\; margin: 20px 0px 10px\; font-size: 36px\; font-family: Calibri\, Verdana\, Geneva\, sans-serif\; color: rgb(0\, 51\, 104)\; bottom: auto\; clear: none\; content: normal\; direction: inherit\; empty-cells: show\; font-variant-numeric: inherit\; font-variant-east-asian: inherit\; font-stretch: inherit\; left: auto\; max-height: none\; max-width: none\; min-height: initial\; min-width: initial\; opacity: 1\; outline-offset: 0px\; overflow: visible\; padding: 0px\; position: static\; resize: none\; right: auto\; table-layout: auto\; text-overflow: clip\; top: auto\; vertical-align: baseline\; visibility: inherit\; word-break: inherit\; overflow-wrap: inherit\; z-index: auto\; background-image: none\; background-position: initial\; background-size: initial\; background-repeat: initial\; background-attachment: initial\; background-origin: initial\; background-clip: initial\; border: none\; border-collapse: separate\; border-radius: 0px\; height: auto\; width: auto\; box-shadow: none\;"><span style="color: rgb(51\, 51\, 51)\; font-family: sans-serif\, Arial\, Verdana\, &quot\;Trebuchet MS&quot\;\; font-size: 13px\;">The Finance &amp\; Executive Committee meetings are held the second Wednesday of every month at 8:30am. &nbsp\;</span><em style="color: rgb(51\, 51\, 51)\; font-family: sans-serif\, Arial\, Verdana\, &quot\;Trebuchet MS&quot\;\; font-size: 13px\;">Invite Only.&nbsp\; Held my ZOOM Meeting.&nbsp\;&nbsp\;</em></h1>\n
LOCATION:Greater Orlando Builders Association Boardroom
UID:e.9318.4116
SEQUENCE:3
DTSTAMP:20260420T000035Z
URL:https://members.greaterorlandoba.com/events/details/finance-executive-committee-zoom-meeting-4116
END:VEVENT

END:VCALENDAR
