BEGIN:VCALENDAR
VERSION:2.0
PRODID:-//ChamberMaster//Event Calendar 2.0//EN
METHOD:PUBLISH
X-PUBLISHED-TTL:P3D
REFRESH-INTERVAL:P3D
CALSCALE:GREGORIAN
BEGIN:VEVENT
DTSTART:20160526T130000Z
DTEND:20160526T140000Z
X-MICROSOFT-CDO-ALLDAYEVENT:FALSE
SUMMARY:Foundation Meeting
DESCRIPTION:Chartered in 1985\, the GOBA Foundation was established to provide a vehicle for community charitable operations by members of the Builders Association. The Foundation is dedicated to raising funds for organizations that help children and families in need\, and is responsible for donations of over $1 million to youth-related charities and scholarship funds across Central Florida. It has a separate and distinct Board of Trustees and is a 501-C3 tax-exempt organization. All donations to the Foundation are tax deductible.\n\n\n\nMission\n\nAs contributing members of the Central Florida home building industry\, we realize that our success is not solely dependent upon our own hard work and talents.  It is also a reflection of the dynamic community in which we live and work.  As the charitable arm of the Greater Orlando Builders Association\, our mission is to provide\, in perpetuity\, a vehicle for us to repay our community. \n\nAlthough the Foundation's support is available to a broad base of worthy causes in Orange\, Seminole and Osceola counties\, two specific areas of particular interest have been targeted:\n\nYouth:  for there is no greater way to insure the community's future than by helping a child\,\n\nEducation: for there is no better way to demonstrate our gratitude than by encouraging someone else's dream to flourish.
X-ALT-DESC;FMTTYPE=text/html:<p><span style="color: rgb(51\, 51\, 51)\; font-family: Calibri\, Verdana\, Geneva\, sans-serif\; font-size: 16px\; font-style: normal\; font-variant: normal\; font-weight: normal\; letter-spacing: normal\; line-height: 22.8571px\; orphans: auto\; text-align: left\; text-indent: 0px\; text-transform: none\; white-space: normal\; widows: 1\; word-spacing: 0px\; -webkit-text-stroke-width: 0px\; display: inline !important\; float: none\; background-color: rgb(255\, 255\, 255)\;">Chartered in 1985\, the GOBA Foundation was established to provide a vehicle for community charitable operations by members of the Builders Association. The Foundation is dedicated to raising funds for organizations that help children and families in need\, and is responsible for donations of over $1 million to youth-related charities and scholarship funds across Central Florida. It has a separate and distinct Board of Trustees and is a 501-C3 tax-exempt organization. All donations to the Foundation are tax deductible.<br />\n<br />\n<strong>Mission</strong></span></p>\n\n<p style="box-sizing: border-box\; margin: 0px 0px 10px\; color: rgb(51\, 51\, 51)\; font-family: Calibri\, Verdana\, Geneva\, sans-serif\; font-size: 16px\; font-style: normal\; font-variant: normal\; font-weight: normal\; letter-spacing: normal\; line-height: 22.8571px\; orphans: auto\; text-align: left\; text-indent: 0px\; text-transform: none\; white-space: normal\; widows: 1\; word-spacing: 0px\; -webkit-text-stroke-width: 0px\; background-color: rgb(255\, 255\, 255)\;">As contributing members of the Central Florida home building industry\, we realize that our success is not solely dependent upon our own hard work and talents.&nbsp\; It is also a reflection of the dynamic community in which we live and work.&nbsp\; As the charitable arm of the Greater Orlando Builders Association\, our mission is to provide\, in perpetuity\, a vehicle for us to repay our community.&nbsp\;</p>\n\n<p style="box-sizing: border-box\; margin: 0px 0px 10px\; color: rgb(51\, 51\, 51)\; font-family: Calibri\, Verdana\, Geneva\, sans-serif\; font-size: 16px\; font-style: normal\; font-variant: normal\; font-weight: normal\; letter-spacing: normal\; line-height: 22.8571px\; orphans: auto\; text-align: left\; text-indent: 0px\; text-transform: none\; white-space: normal\; widows: 1\; word-spacing: 0px\; -webkit-text-stroke-width: 0px\; background-color: rgb(255\, 255\, 255)\;">Although the Foundation&rsquo\;s support is available to a broad base of worthy causes in Orange\, Seminole and Osceola counties\, two specific areas of particular interest have been targeted:</p>\n\n<p style="box-sizing: border-box\; margin: 0px 0px 10px\; color: rgb(51\, 51\, 51)\; font-family: Calibri\, Verdana\, Geneva\, sans-serif\; font-size: 16px\; font-style: normal\; font-variant: normal\; font-weight: normal\; letter-spacing: normal\; line-height: 22.8571px\; orphans: auto\; text-align: left\; text-indent: 0px\; text-transform: none\; white-space: normal\; widows: 1\; word-spacing: 0px\; -webkit-text-stroke-width: 0px\; background-color: rgb(255\, 255\, 255)\;"><strong style="box-sizing: border-box\; font-weight: 700\;">Youth:</strong>&nbsp\; for there is no greater way to insure the community&rsquo\;s future than by helping a child\,</p>\n\n<p style="box-sizing: border-box\; margin: 0px 0px 10px\; color: rgb(51\, 51\, 51)\; font-family: Calibri\, Verdana\, Geneva\, sans-serif\; font-size: 16px\; font-style: normal\; font-variant: normal\; font-weight: normal\; letter-spacing: normal\; line-height: 22.8571px\; orphans: auto\; text-align: left\; text-indent: 0px\; text-transform: none\; white-space: normal\; widows: 1\; word-spacing: 0px\; -webkit-text-stroke-width: 0px\; background-color: rgb(255\, 255\, 255)\;"><strong style="box-sizing: border-box\; font-weight: 700\;">Education:</strong> for there is no better way to demonstrate our gratitude than by encouraging someone else&rsquo\;s dream to flourish.</p>\n
LOCATION:GOBA Office- Maitland CenturyLink Boardroom
UID:e.9318.3911
SEQUENCE:3
DTSTAMP:20260422T161412Z
URL:https://members.greaterorlandoba.com/events/details/foundation-meeting-05-26-2016-3911
END:VEVENT

END:VCALENDAR
