BEGIN:VCALENDAR
VERSION:2.0
PRODID:-//ChamberMaster//Event Calendar 2.0//EN
METHOD:PUBLISH
X-PUBLISHED-TTL:P3D
REFRESH-INTERVAL:P3D
CALSCALE:GREGORIAN
BEGIN:VEVENT
DTSTART;VALUE=DATE:20151105
DTEND;VALUE=DATE:20151106
TRANSP:TRANSPARENT
X-MICROSOFT-CDO-ALLDAYEVENT:TRUE
SUMMARY:General Membership Meeting- Installation of the 2016 Senior Officers and Board of Directors
DESCRIPTION:
X-ALT-DESC;FMTTYPE=text/html:
LOCATION:
UID:e.9318.714
SEQUENCE:3
DTSTAMP:20260423T014829Z
URL:https://members.greaterorlandoba.com/events/details/general-membership-meeting-installation-of-the-2016-senior-officers-and-board-of-directors-11-05-2015-714
END:VEVENT

END:VCALENDAR
