BEGIN:VCALENDAR
VERSION:2.0
PRODID:-//ChamberMaster//Event Calendar 2.0//EN
METHOD:PUBLISH
X-PUBLISHED-TTL:P3D
REFRESH-INTERVAL:P3D
CALSCALE:GREGORIAN
BEGIN:VEVENT
DTSTART:20150916T220000Z
DTEND:20150916T160000Z
X-MICROSOFT-CDO-ALLDAYEVENT:FALSE
SUMMARY:General Membership Meeting- Orange County Property Appraiser
DESCRIPTION:
X-ALT-DESC;FMTTYPE=text/html:
LOCATION:1953 Clayton Heritage Way Maitland\, FL 32751
UID:e.9318.692
SEQUENCE:3
DTSTAMP:20260423T044429Z
URL:https://members.greaterorlandoba.com/events/details/general-membership-meeting-orange-county-property-appraiser-09-16-2015-692
END:VEVENT

END:VCALENDAR
