BEGIN:VCALENDAR
VERSION:2.0
PRODID:-//ChamberMaster//Event Calendar 2.0//EN
METHOD:PUBLISH
X-PUBLISHED-TTL:P3D
REFRESH-INTERVAL:P3D
CALSCALE:GREGORIAN
BEGIN:VEVENT
DTSTART:20211021T153000Z
DTEND:20211021T173000Z
X-MICROSOFT-CDO-ALLDAYEVENT:FALSE
SUMMARY:GOBA GA & GOBA PAC Joint Quarterly Meeting
DESCRIPTION:Joint Quarterly meeting of GOBA's Government Affairs Committee and GOBA's Political Action Committee
X-ALT-DESC;FMTTYPE=text/html:Joint Quarterly meeting of GOBA&#39\;s Government Affairs Committee and GOBA&#39\;s Political Action Committee
LOCATION:GOBA BOARDROOM
UID:e.9318.6463
SEQUENCE:3
DTSTAMP:20260420T143653Z
URL:https://members.greaterorlandoba.com/events/details/goba-ga-goba-pac-joint-quarterly-meeting-6463
END:VEVENT

END:VCALENDAR
